BEGIN:VCALENDAR
VERSION:2.0
PRODID:-//ChamberMaster//Event Calendar 2.0//EN
METHOD:PUBLISH
X-PUBLISHED-TTL:P3D
REFRESH-INTERVAL:P3D
CALSCALE:GREGORIAN
BEGIN:VEVENT
DTSTART:20150915T170000Z
DTEND:20150915T220000Z
X-MICROSOFT-CDO-ALLDAYEVENT:FALSE
SUMMARY:YP Leaders Symposium\, Presented by Two Rivers Bank and Trust
DESCRIPTION:Leaders from YPC\, genYP\, New View and WhyPro have come together to organize our 3rd annual YP Symposium.  This half day educational event will provide young professionals from around the metro with professional development centered around leadership and the skills they will need to fuel their careers. This Symposium will feature a networking luncheon\, three break out session\, keynote speaker and a social hour.\n\n\n\nDate: Tuesday\, September 15\n\nTime: 12:00 pm - 5:00 pm\n\n\n\n12-1 pm: Lunch and Networking\,\n\n    Sponsored by Josephs Jewelers and Nationwide\n\n1:10-2:00 pm: Break out session\n\n2:10-3:00 pm\; Break out session\n\n3:10-4:00 pm: Keynote Speaker-Zachary Mannheimer\, Executive Director\, Des Moines Social Club\n\n4:00-5:00 pm: Social\n\n\n\nLocation: Community Choice Credit Union Convention Center (730 Third Street\, Des Moines)\n\nCost: $45/person  \n\n\n\nLike YP Leaders Symposium on Facebook for updates!
X-ALT-DESC;FMTTYPE=text/html:<p style="margin: 20px 0px 10px\; padding: 0px\; outline: none\; font-size: 1.6em\; color: rgb(0\, 0\, 0)\; font-family: Arial\, Helvetica\, sans-serif\; line-height: 18px\;"><span style="font-size:14px\;"><span style="font-family:arial\;">Leaders from YPC\, genYP\,&nbsp\;New View and WhyPro&nbsp\;have come together to organize our 3rd annual&nbsp\;YP Symposium. &nbsp\;This half day educational event will provide&nbsp\;young professionals from around the metro with professional development centered around leadership and the skills they will need to fuel their careers. This Symposium will feature a networking luncheon\, three break out session\, keynote speaker and a social hour.</span></span><br />\n<br />\n<span style="font-family:arial\;"><span style="font-size:14px\;"><span style="line-height: 18.9090900421143px\;">Date: Tuesday\, September&nbsp\;15</span><br style="line-height: 18.9090900421143px\;" />\n<span style="line-height: 18.9090900421143px\;">Time: 12:00 pm - 5:00 pm<br />\n<br />\n<em>12-1 pm: Lunch and Networking\,</em></span><br />\n&nbsp\;&nbsp\;&nbsp\;&nbsp\;<span style="line-height: 18.9090900421143px\;"><em>Sponsored by Josephs Jewelers and Nationwide<br />\n1:10-2:00 pm: Break out session<br />\n2:10-3:00 pm\; Break out session<br />\n3:10-4:00 pm: Keynote Speaker-Zachary Mannheimer\, Executive Director\, Des Moines Social Club<br />\n4:00-5:00 pm: Social</em><br />\n<br />\nLocation: Community Choice Credit Union Convention Center (730 Third Street\, Des Moines)<br />\nCost:&nbsp\;</span>$45/person &nbsp\;</span></span><br />\n<br />\n<a href="https://www.facebook.com/YPleaderssymposium" style="color: rgb(155\, 100\, 17)\; font-family: arial\; font-size: 14px\; line-height: 18px\; margin: 0px\; padding: 0px\; outline: none\; text-decoration: none\;">Like YP Leaders Symposium on Facebook for updates!</a></p>\n
LOCATION:Location: Community Choice Credit Union Convention Center (730 Third Street\, Des Moines)
UID:e.1185.4149
SEQUENCE:3
DTSTAMP:20260420T070135Z
URL:http://getaquote-mobile.uniquelyurbandale.com/events/details/yp-leaders-symposium-presented-by-two-rivers-bank-and-trust-09-15-2015-4149
END:VEVENT

END:VCALENDAR
