BEGIN:VCALENDAR
VERSION:2.0
PRODID:-//ChamberMaster//Event Calendar 2.0//EN
METHOD:PUBLISH
X-PUBLISHED-TTL:P3D
REFRESH-INTERVAL:P3D
CALSCALE:GREGORIAN
BEGIN:VEVENT
DTSTART:20140909T170000Z
DTEND:20140909T213000Z
X-MICROSOFT-CDO-ALLDAYEVENT:FALSE
SUMMARY:YP Leaders Symposium
DESCRIPTION:Leaders from YPC\, GenYP and New View have come together to organize a YP Symposium to encourage Young Professionals from around the metro to meet one another and share ideas. Focusing on entrepreneurship\, networking\, mentoring and personal branding.\n\nThe 2014 program includes:\n\nNetworking and lunch upon arrival\n\nStand Up and Stand Out Panel:\n\nKatie Stocking - Happy Medium\n\nJason Kiesau - Merit Resources \n\nJason Swanson - Business Record\n\nAmy Jennings - Greater Des Moines Leadership Institute\n\nCommunity Champions Panel:\n\nKristi Knous   Community Foundation of Greater Des Moines\n\nChris Voggesser - Make a Wish\, Iowa Chapter \n\nSheri McMichael - Variety\, the Children's Charity\n\nJodi Warth - Boys & Girls Club of Central Iowa \n\nKey Note\n\nScott Bush - Templeton Rye\n\nNetworking \n\nDale Carnegie\n\nAfter Hours\n\nFeaturing a Templeton Rye tasting\n\nTickets are $35/ person  \n\nafter September 2nd $40/ person\n\nCompanies can purchase a table for 8 at $250- includes company name on table \n\nLike YP Leaders Symposium on Facebook for updates!\n\n\n\nClick here to register
X-ALT-DESC;FMTTYPE=text/html:<p style="margin: 20px 0px 10px\; padding: 0px\; outline: none\; font-size: 1.6em\; color: rgb(0\, 0\, 0)\; font-family: Arial\, Helvetica\, sans-serif\; line-height: 18px\;"><span style="font-size:12px\;"><span style="font-family:arial\;">Leaders from YPC\, GenYP and New View have come together to organize a YP Symposium to encourage Young Professionals from around the metro to meet one another and share ideas. Focusing on entrepreneurship\, networking\, mentoring and personal branding.</span></span></p>\n\n<p style="margin: 5px 0px 10px\; padding: 0px\; outline: none\; color: rgb(0\, 0\, 0)\; font-family: Arial\, Helvetica\, sans-serif\; line-height: 18px\;"><strong style="margin: 0px\; padding: 0px\; outline: none\;">The 2014 program includes:</strong></p>\n\n<p style="margin: 5px 0px 10px\; padding: 0px\; outline: none\; color: rgb(0\, 0\, 0)\; font-family: Arial\, Helvetica\, sans-serif\; line-height: 18px\;"><strong style="margin: 0px\; padding: 0px\; outline: none\;">Networking and lunch upon arrival</strong></p>\n\n<p style="margin: 5px 0px 10px\; padding: 0px\; outline: none\; color: rgb(0\, 0\, 0)\; font-family: Arial\, Helvetica\, sans-serif\; line-height: 18px\;"><strong style="margin: 0px\; padding: 0px\; outline: none\;">Stand Up and Stand Out Panel:</strong><br style="margin: 0px\; padding: 0px\; outline: none\;" />\nKatie Stocking - Happy Medium<br style="margin: 0px\; padding: 0px\; outline: none\;" />\nJason Kiesau - Merit Resources&nbsp\;<br style="margin: 0px\; padding: 0px\; outline: none\;" />\nJason Swanson - Business Record<br style="margin: 0px\; padding: 0px\; outline: none\;" />\nAmy Jennings - Greater Des Moines Leadership Institute</p>\n\n<p style="margin: 5px 0px 10px\; padding: 0px\; outline: none\; color: rgb(0\, 0\, 0)\; font-family: Arial\, Helvetica\, sans-serif\; line-height: 18px\;"><strong style="margin: 0px\; padding: 0px\; outline: none\;">Community Champions Panel:</strong><br style="margin: 0px\; padding: 0px\; outline: none\;" />\nKristi Knous &ndash\; Community Foundation of Greater Des Moines<br style="margin: 0px\; padding: 0px\; outline: none\;" />\nChris Voggesser - Make a Wish\, Iowa Chapter&nbsp\;<br style="margin: 0px\; padding: 0px\; outline: none\;" />\nSheri McMichael - Variety\, the Children&#39\;s Charity<br style="margin: 0px\; padding: 0px\; outline: none\;" />\nJodi Warth - Boys &amp\; Girls Club of Central Iowa&nbsp\;</p>\n\n<p style="margin: 5px 0px 10px\; padding: 0px\; outline: none\; color: rgb(0\, 0\, 0)\; font-family: Arial\, Helvetica\, sans-serif\; line-height: 18px\;"><strong style="margin: 0px\; padding: 0px\; outline: none\;">Key Note</strong><br style="margin: 0px\; padding: 0px\; outline: none\;" />\nScott Bush - Templeton Rye</p>\n\n<p style="margin: 5px 0px 10px\; padding: 0px\; outline: none\; color: rgb(0\, 0\, 0)\; font-family: Arial\, Helvetica\, sans-serif\; line-height: 18px\;"><strong style="margin: 0px\; padding: 0px\; outline: none\;">Networking</strong>&nbsp\;<br style="margin: 0px\; padding: 0px\; outline: none\;" />\nDale Carnegie</p>\n\n<p style="margin: 5px 0px 10px\; padding: 0px\; outline: none\; color: rgb(0\, 0\, 0)\; font-family: Arial\, Helvetica\, sans-serif\; line-height: 18px\;"><strong style="margin: 0px\; padding: 0px\; outline: none\;">After Hours</strong><br style="margin: 0px\; padding: 0px\; outline: none\;" />\nFeaturing a Templeton Rye tasting</p>\n\n<p style="margin: 5px 0px 10px\; padding: 0px\; outline: none\; color: rgb(0\, 0\, 0)\; font-family: Arial\, Helvetica\, sans-serif\; line-height: 18px\;">Tickets are $35/ person &nbsp\;<br style="margin: 0px\; padding: 0px\; outline: none\;" />\nafter September 2nd $40/ person</p>\n\n<p style="margin: 5px 0px 10px\; padding: 0px\; outline: none\; color: rgb(0\, 0\, 0)\; font-family: Arial\, Helvetica\, sans-serif\; line-height: 18px\;">Companies can purchase a table for 8 at $250- includes company name on table&nbsp\;</p>\n\n<p style="margin: 5px 0px 10px\; padding: 0px\; outline: none\; color: rgb(0\, 0\, 0)\; font-family: Arial\, Helvetica\, sans-serif\; line-height: 18px\;"><a href="https://www.facebook.com/YPleaderssymposium" style="margin: 0px\; padding: 0px\; outline: none\; color: rgb(155\, 100\, 17)\; text-decoration: none\;">Like YP Leaders Symposium on Facebook for updates!</a><br style="margin: 0px\; padding: 0px\; outline: none\;" />\n<br style="margin: 0px\; padding: 0px\; outline: none\;" />\n<a href="http://westdesmoinesiacoc.weblinkconnect.com/External/WCPages/WCEvents/EventDetail.aspx?EventID=284" style="margin: 0px\; padding: 0px\; outline: none\; color: rgb(155\, 100\, 17)\; text-decoration: none\;"><strong style="margin: 0px\; padding: 0px\; outline: none\;"><span style="margin: 5px 0px 10px\; padding: 0px\; outline: none\; font-size: 1em\; line-height: 1.3em\;">Click here to register</span></strong></a></p>\n
LOCATION:Embassy Club West (520 Market Street\, West Des Moines)
UID:e.1185.3863
SEQUENCE:3
DTSTAMP:20260419T141916Z
URL:http://getaquote-mobile.uniquelyurbandale.com/events/details/yp-leaders-symposium-09-09-2014-3863
END:VEVENT

END:VCALENDAR
