BEGIN:VCALENDAR
VERSION:2.0
PRODID:-//ChamberMaster//Event Calendar 2.0//EN
METHOD:PUBLISH
X-PUBLISHED-TTL:P3D
REFRESH-INTERVAL:P3D
CALSCALE:GREGORIAN
BEGIN:VEVENT
DTSTART:20180407T150000Z
DTEND:20180407T163000Z
X-MICROSOFT-CDO-ALLDAYEVENT:FALSE
SUMMARY:You can't build a house with Burning Wood
DESCRIPTION:Real Connections Counseling Presents "You can't build a house with Burning Wood" RSVP Required to rsvp@realconnectionscounseling.com by April 2nd
X-ALT-DESC;FMTTYPE=text/html:Real Connections Counseling Presents &quot\;You can&#39\;t build a house with Burning Wood&quot\; RSVP Required to rsvp@realconnectionscounseling.com by April 2nd
LOCATION:Glen Oaks Country Club\, West Des Moines
UID:e.1185.7226
SEQUENCE:3
DTSTAMP:20260422T043609Z
URL:http://getaquote-mobile.uniquelyurbandale.com/events/details/you-can-t-build-a-house-with-burning-wood-7226
END:VEVENT

END:VCALENDAR
