BEGIN:VCALENDAR
VERSION:2.0
PRODID:-//ChamberMaster//Event Calendar 2.0//EN
METHOD:PUBLISH
X-PUBLISHED-TTL:P3D
REFRESH-INTERVAL:P3D
CALSCALE:GREGORIAN
BEGIN:VEVENT
DTSTART:20201212T200000Z
DTEND:20201212T230000Z
X-MICROSOFT-CDO-ALLDAYEVENT:FALSE
SUMMARY:Yappy Hour! Sylin Paws Play Place Open House
DESCRIPTION:Join us on Saturday\, December 12th at the Stylin Paws Play Place Open House for the last Yappy Hour of 2020!\n\nDrinks\, snacks\, and raffle tickets for THREE howlin' great prizes - including a 1-year membership to Stylin Paws indoor dog park - will be available for purchase.\n\nBonus - you'll be one of the first to check out Des Moines' newest indoor dog park! Don't have a dog? No worries! We'd still love to have you out to spend the evening with us and support the homeless pets at the ARL!\n\nThis is a FREE event\, but please RSVP today to let us know if you and your pup will be at Yappy Hour! If you're thinking you'd like to participate from the comfort of your own home we have created the option for you to purchase raffle tickets online! Just follow the RSVP link below to purchase and play in the raffle.\n\nNote: All event attendees are strongly encouraged to practice current recommended safety guidelines as-appropriate for each individual including (but not limited to) social distancing of 6 feet or more\, wearing a mask (required)\, and hand washing. If you have questions about our COVID-19 safety measures or would like to request accommodations like curbside pick-up where possible\, please contact events@arl-iowa.org .\n\nFINE PRINT: We welcome friendly dogs of all sizes and breeds and their responsible owners. For the safety of your dog and others\, female dogs should not be in heat and please check with your veterinarian to make sure your dog is up to date on all of its vaccinations. Dogs must be leashed and under control of their owner at all times. No retractable leashes\, choke chains\, or prong collars are allowed.
X-ALT-DESC;FMTTYPE=text/html:<div class="kvgmc6g5 cxmmr5t8 oygrvhab hcukyx3x c1et5uql" style="overflow-wrap: break-word\; margin: 0px\; font-family: &quot\;Segoe UI Historic&quot\;\, &quot\;Segoe UI&quot\;\, Helvetica\, Arial\, sans-serif\; color: rgb(5\, 5\, 5)\; font-size: 15px\;"><span style="font-size:14px\;"><span style="font-family:arial\;">Join us on Saturday\, December 12th at the Stylin Paws Play Place Open House for the last Yappy Hour of 2020!</span></span></div>\n\n<div class="o9v6fnle cxmmr5t8 oygrvhab hcukyx3x c1et5uql" style="overflow-wrap: break-word\; margin: 0.5em 0px 0px\; font-family: &quot\;Segoe UI Historic&quot\;\, &quot\;Segoe UI&quot\;\, Helvetica\, Arial\, sans-serif\; color: rgb(5\, 5\, 5)\; font-size: 15px\;"><span style="font-size:14px\;"><span style="font-family:arial\;">Drinks\, snacks\, and raffle tickets for THREE howlin&#39\; great prizes - including a 1-year membership to Stylin Paws indoor dog park - will be available for purchase.</span></span></div>\n\n<div class="o9v6fnle cxmmr5t8 oygrvhab hcukyx3x c1et5uql" style="overflow-wrap: break-word\; margin: 0.5em 0px 0px\; font-family: &quot\;Segoe UI Historic&quot\;\, &quot\;Segoe UI&quot\;\, Helvetica\, Arial\, sans-serif\; color: rgb(5\, 5\, 5)\; font-size: 15px\;"><span style="font-size:14px\;"><span style="font-family:arial\;">Bonus - you&#39\;ll be one of the first to check out Des Moines&#39\; newest indoor dog park! Don&#39\;t have a dog? No worries! We&#39\;d still love to have you out to spend the evening with us and support the homeless pets at the ARL!</span></span></div>\n\n<div class="o9v6fnle cxmmr5t8 oygrvhab hcukyx3x c1et5uql" style="overflow-wrap: break-word\; margin: 0.5em 0px 0px\; font-family: &quot\;Segoe UI Historic&quot\;\, &quot\;Segoe UI&quot\;\, Helvetica\, Arial\, sans-serif\; color: rgb(5\, 5\, 5)\; font-size: 15px\;"><span style="font-size:14px\;"><span style="font-family:arial\;">This is a FREE event\, but please RSVP today to let us know if you and your pup will be at Yappy Hour! If you&#39\;re thinking you&#39\;d like to participate from the comfort of your own home we have created the option for you to purchase raffle tickets online! Just follow the RSVP link below to purchase and play in the raffle.</span></span></div>\n\n<div class="o9v6fnle cxmmr5t8 oygrvhab hcukyx3x c1et5uql" style="overflow-wrap: break-word\; margin: 0.5em 0px 0px\; font-family: &quot\;Segoe UI Historic&quot\;\, &quot\;Segoe UI&quot\;\, Helvetica\, Arial\, sans-serif\; color: rgb(5\, 5\, 5)\; font-size: 15px\;"><span style="font-size:14px\;"><span style="font-family:arial\;">Note: All event attendees are strongly encouraged to practice current recommended safety guidelines as-appropriate for each individual including (but not limited to) social distancing of 6 feet or more\, wearing a mask (required)\, and hand washing. If you have questions about our COVID-19 safety measures or would like to request accommodations like curbside pick-up where possible\, please contact events@arl-iowa.org .</span></span></div>\n\n<div class="o9v6fnle cxmmr5t8 oygrvhab hcukyx3x c1et5uql" style="overflow-wrap: break-word\; margin: 0.5em 0px 0px\; font-family: &quot\;Segoe UI Historic&quot\;\, &quot\;Segoe UI&quot\;\, Helvetica\, Arial\, sans-serif\; color: rgb(5\, 5\, 5)\; font-size: 15px\;"><span style="font-size:14px\;"><span style="font-family:arial\;">FINE PRINT: We welcome friendly dogs of all sizes and breeds and their responsible owners. For the safety of your dog and others\, female dogs should not be in heat and please check with your veterinarian to make sure your dog is up to date on all of its vaccinations. Dogs must be leashed and under control of their owner at all times. No retractable leashes\, choke chains\, or prong collars are allowed.</span></span></div>\n
LOCATION:3901 121st St. Urbandale\, IA 50325
UID:e.1185.10999
SEQUENCE:3
DTSTAMP:20260424T060307Z
URL:http://getaquote-mobile.uniquelyurbandale.com/events/details/yappy-hour-sylin-paws-play-place-open-house-10999
END:VEVENT

END:VCALENDAR
