BEGIN:VCALENDAR
VERSION:2.0
PRODID:-//ChamberMaster//Event Calendar 2.0//EN
METHOD:PUBLISH
X-PUBLISHED-TTL:P3D
REFRESH-INTERVAL:P3D
CALSCALE:GREGORIAN
BEGIN:VEVENT
DTSTART:20160416T143000Z
DTEND:20160416T183000Z
X-MICROSOFT-CDO-ALLDAYEVENT:FALSE
SUMMARY:Women's Day Out Vendor Event
DESCRIPTION:Join us for a fun day of shopping at the Women's Day Out Vendor Event! We will have about 30 vendors representing direct sales\, small businesses\, and non-profit organizations. We will also have a bake sale to help raise money for our local women's networking group (we do really great things for the community with the money raised!) See you there!
X-ALT-DESC;FMTTYPE=text/html:Join us for a fun day of shopping at the Women&#39\;s Day Out Vendor Event! We will have about 30 vendors representing direct sales\, small businesses\, and non-profit organizations. We will also have a bake sale to help raise money for our local women&#39\;s networking group (we do really great things for the community with the money raised!) See you there!
LOCATION:Urbandale Senior Center 7305 Aurora Avenue Urbandale\, Iowa 50322
UID:e.1185.4734
SEQUENCE:3
DTSTAMP:20260420T170220Z
URL:http://getaquote-mobile.uniquelyurbandale.com/events/details/women-s-day-out-vendor-event-04-16-2016-4734
END:VEVENT

END:VCALENDAR
