BEGIN:VCALENDAR
VERSION:2.0
PRODID:-//ChamberMaster//Event Calendar 2.0//EN
METHOD:PUBLISH
X-PUBLISHED-TTL:P3D
REFRESH-INTERVAL:P3D
CALSCALE:GREGORIAN
BEGIN:VEVENT
DTSTART:20160319T000000Z
DTEND:20160319T020000Z
X-MICROSOFT-CDO-ALLDAYEVENT:FALSE
SUMMARY:Winter Movie Night
DESCRIPTION:Join us for a fun-filled evening with movie and popcorn. Showing movie: "Freebirds"
X-ALT-DESC;FMTTYPE=text/html:Join us for a fun-filled evening with movie and popcorn. Showing movie: &quot\;Freebirds&quot\;
LOCATION:St. Stephen Lutheran Church 3510 72nd Street Urbandale\, IA 50322
UID:e.1185.4601
SEQUENCE:3
DTSTAMP:20260420T170258Z
URL:http://getaquote-mobile.uniquelyurbandale.com/events/details/winter-movie-night-03-18-2016-4601
END:VEVENT

END:VCALENDAR
