BEGIN:VCALENDAR
VERSION:2.0
PRODID:-//ChamberMaster//Event Calendar 2.0//EN
METHOD:PUBLISH
X-PUBLISHED-TTL:P3D
REFRESH-INTERVAL:P3D
CALSCALE:GREGORIAN
BEGIN:VEVENT
DTSTART:20160220T010000Z
DTEND:20160220T030000Z
X-MICROSOFT-CDO-ALLDAYEVENT:FALSE
SUMMARY:Winter Movie Night
DESCRIPTION:Enjoy a fun-filled evening of a movie and popcorn. showing movie "Inside Out"
X-ALT-DESC;FMTTYPE=text/html:Enjoy a fun-filled evening of a movie and popcorn. showing movie &quot\;Inside Out&quot\;
LOCATION:Aldersgate United Methodist Church 3500 75th Street Urbandale\, IA 50322
UID:e.1185.4600
SEQUENCE:3
DTSTAMP:20260420T140243Z
URL:http://getaquote-mobile.uniquelyurbandale.com/events/details/winter-movie-night-02-19-2016-4600
END:VEVENT

END:VCALENDAR
