BEGIN:VCALENDAR
VERSION:2.0
PRODID:-//ChamberMaster//Event Calendar 2.0//EN
METHOD:PUBLISH
X-PUBLISHED-TTL:P3D
REFRESH-INTERVAL:P3D
CALSCALE:GREGORIAN
BEGIN:VEVENT
DTSTART:20160116T010000Z
DTEND:20160116T030000Z
X-MICROSOFT-CDO-ALLDAYEVENT:FALSE
SUMMARY:Winter Movie Night
DESCRIPTION:Join us for a fun-filled evening with a movie and popcorn. Movie title: "UP"
X-ALT-DESC;FMTTYPE=text/html:Join us for a fun-filled evening with a movie and popcorn. Movie title: &quot\;UP&quot\;
LOCATION:Covenant Christian Church 2700 72nd St. Urbandale\, IA 50322
UID:e.1185.4599
SEQUENCE:3
DTSTAMP:20260420T124912Z
URL:http://getaquote-mobile.uniquelyurbandale.com/events/details/winter-movie-night-01-15-2016-4599
END:VEVENT

END:VCALENDAR
