BEGIN:VCALENDAR
VERSION:2.0
PRODID:-//ChamberMaster//Event Calendar 2.0//EN
METHOD:PUBLISH
X-PUBLISHED-TTL:P3D
REFRESH-INTERVAL:P3D
CALSCALE:GREGORIAN
BEGIN:VEVENT
DTSTART:20170523T223000Z
DTEND:20170523T233000Z
X-MICROSOFT-CDO-ALLDAYEVENT:FALSE
SUMMARY:Wine & Cheese Pairing-Renovo Rendezvous
DESCRIPTION:Wine & Cheese Pairing Come sip and taste and Renovo! We will be pairing wines with cheese from our Iowan Plate. While your here enjoy $1 off glasses of wine from our new wine menu. Date: Tuesday\, May 23rd\, 2017 Time: 5:30-6:30pm Place: Hotel Renovo
X-ALT-DESC;FMTTYPE=text/html:Wine &amp\; Cheese Pairing Come sip and taste and Renovo! We will be pairing wines with cheese from our Iowan Plate. While your here enjoy $1 off glasses of wine from our new wine menu. Date: Tuesday\, May 23rd\, 2017 Time: 5:30-6:30pm Place: Hotel Renovo
LOCATION:Hotel Renovo 11167 Hickman Rd-Urbandale
UID:e.1185.6207
SEQUENCE:3
DTSTAMP:20260421T120147Z
URL:http://getaquote-mobile.uniquelyurbandale.com/events/details/wine-cheese-pairing-renovo-rendezvous-6207
END:VEVENT

END:VCALENDAR
