BEGIN:VCALENDAR
VERSION:2.0
PRODID:-//ChamberMaster//Event Calendar 2.0//EN
METHOD:PUBLISH
X-PUBLISHED-TTL:P3D
REFRESH-INTERVAL:P3D
CALSCALE:GREGORIAN
BEGIN:VEVENT
DTSTART:20170214T233000Z
DTEND:20170215T003000Z
X-MICROSOFT-CDO-ALLDAYEVENT:FALSE
SUMMARY:Will You Be Our Valentine?
DESCRIPTION:Will You Be Our Valentine? Celebrate Valentine's Day with Renovo! We will be hosting a Bloody Mary bar and snacks. Drink specials and room packages will also be available.
X-ALT-DESC;FMTTYPE=text/html:Will You Be Our Valentine? Celebrate Valentine&#39\;s Day with Renovo! We will be hosting a Bloody Mary bar and snacks. Drink specials and room packages will also be available.
LOCATION:Hotel Renovo 11167 Hickman Rd-Urbandale
UID:e.1185.5126
SEQUENCE:3
DTSTAMP:20260421T082729Z
URL:http://getaquote-mobile.uniquelyurbandale.com/events/details/will-you-be-our-valentine-5126
END:VEVENT

END:VCALENDAR
