BEGIN:VCALENDAR
VERSION:2.0
PRODID:-//ChamberMaster//Event Calendar 2.0//EN
METHOD:PUBLISH
X-PUBLISHED-TTL:P3D
REFRESH-INTERVAL:P3D
CALSCALE:GREGORIAN
BEGIN:VEVENT
DTSTART:20160323T220000Z
DTEND:20160324T000000Z
X-MICROSOFT-CDO-ALLDAYEVENT:FALSE
SUMMARY:Will Writing Workshop
DESCRIPTION:Due to a scheduling conflict\, the workshop has been changed to Wednesday\, March 23\,2016 from 5 PM - 7 PM.  Sorry for the inconvenience.  \n\n\n\nFailure to plan is expensive. Come and learn with us on how to get a Will started\, where to go to get one done\, and why should one need a Living Will. This workshop is to learn 10 solutions most people need. Our goal is to get the right information to the right people at the right time. Don't miss this opportunity to learn how easy it is to set up a Living Will & Testament. We will provide wine\, hors d'ouevres and education that will be worth while. There is no charge and this workshop is open to everyone. Please RSVP to hold your spot as space is limited. We are located on Douglas & 36th in the back side of The Water World building. (Please take the second driveway to the back entrance).
X-ALT-DESC;FMTTYPE=text/html:<span style="color:rgb(78\, 86\, 101)\; font-family:helvetica\,arial\,sans-serif\; font-size:14px">Due to a scheduling conflict\, the workshop has been changed to Wednesday\, March 23\,2016 from 5 PM - 7 PM. &nbsp\;Sorry for the inconvenience. &nbsp\;<br />\n<br />\nFailure to plan is expensive. Come and learn with us on how to get a Will started\, where to go to get one done\, and why should one need a Living Will. This workshop is to learn 10 solutions most people need. Our goal is to get the right information to the right people at the right time. Don&#39\;t miss this opportunity to learn how easy it is to set up a Living Will &amp\; Testament. We will provide wine\, hors d&#39\;ouevres and education that will be worth while. There is no charge and this workshop is open to everyone. Please RSVP to hold your spot as space is limited. We are located on Douglas &amp\; 36th in the back side of The Water World building. (Please take the second driveway to the back entrance).</span>
LOCATION:3711 1/2 Douglas Ave.\, Des Moines\, IA 50310
UID:e.1185.4736
SEQUENCE:3
DTSTAMP:20260420T153040Z
URL:http://getaquote-mobile.uniquelyurbandale.com/events/details/will-writing-workshop-03-23-2016-4736
END:VEVENT

END:VCALENDAR
