BEGIN:VCALENDAR
VERSION:2.0
PRODID:-//ChamberMaster//Event Calendar 2.0//EN
METHOD:PUBLISH
X-PUBLISHED-TTL:P3D
REFRESH-INTERVAL:P3D
CALSCALE:GREGORIAN
BEGIN:VEVENT
DTSTART;VALUE=DATE:20150911
DTEND;VALUE=DATE:20150912
TRANSP:TRANSPARENT
X-MICROSOFT-CDO-ALLDAYEVENT:TRUE
SUMMARY:Wild West Golf Outing\, Presented by Grinnell State Bank
DESCRIPTION:The Wild West Golf Outing\, Presented by Grinnell State Bank\, joins the memberships of Urbandale\, West Des Moines and Clive Chambers in an action-packed day on the course of Beaver Creek Golf Club each September.  Both morning and afternoon shot-gun starts provide plenty of opportunity for over 350 golfers to enjoy the links and the camaraderie of fellow Chamber members.  Sponsoring businesses from all three Chambers provide lively interaction at each hole.  A catered barbeque lunch\,provided by Texas Roadhouse\, is included for all participants.\n\nFormat: 4-person best ball\n\nTime: 7a.m & 1p.m shotgun starts\n\nPrices: (prices include breakfast and lunch)\n\n\n	Early-bird (before August 1) : $90.00 per person\n	After August 1 : $100.00 per person\n\n\nPlease register to golf using this link: http://westdesmoinesiacoc.weblinkconnect.com/events/Wild-West-Golf-Shoot-Out--347/details\n\n \n\nIf paying with a check\, send to: (your spot is not guaranteed until payment is received)\n\nWild West Golf Shoot Out  \n\nWest Des Moines Chamber of Commerce\n\nP.O. Box 65320\n\nWest Des Moines\, IA 50265
X-ALT-DESC;FMTTYPE=text/html:<p style="margin: 0px 0px 0.5em\; padding: 0px\; border: 0px\; color: rgb(102\, 102\, 102)\; font-family: Lato\, sans-serif\; font-size: 15px\; line-height: 27px\;"><span style="color: rgb(102\, 102\, 102)\; font-family: Lato\, sans-serif\; font-size: 15px\; line-height: 27px\;">The</span><span style="color: rgb(102\, 102\, 102)\; font-family: Lato\, sans-serif\; font-size: 15px\; line-height: 27px\;"> Wild West Golf Outing\, <strong>Presented by Grinnell State Bank\,</strong></span><span style="margin: 0px\; padding: 0px\; border: 0px\; font-stretch: normal\;"> joins the memberships of&nbsp\;</span>Urbandale\,&nbsp\;West Des Moines&nbsp\;and&nbsp\;Clive Chambers in an action-packed day on the course of Beaver Creek Golf Club each September.&nbsp\; Both morning and afternoon shot-gun starts provide plenty of opportunity for over 350 golfers to enjoy the links and the camaraderie of fellow Chamber members.&nbsp\; Sponsoring businesses from all three Chambers provide lively interaction at each hole.&nbsp\; A catered barbeque lunch\,<strong style="color: rgb(102\, 102\, 102)\; font-family: Lato\, sans-serif\; font-size: 15px\; line-height: 27px\;">provided by Texas Roadhouse\,</strong> is included for all participants.</p>\n\n<p style="margin: 0px 0px 0.5em\; padding: 0px\; border: 0px\; color: rgb(102\, 102\, 102)\; font-family: Lato\, sans-serif\; font-size: 15px\; line-height: 27px\;"><span style="margin: 0px\; padding: 0px\; border: 0px\; font-stretch: normal\;">Format: 4-person best ball</span></p>\n\n<p style="margin: 0px 0px 0.5em\; padding: 0px\; border: 0px\; color: rgb(102\, 102\, 102)\; font-family: Lato\, sans-serif\; font-size: 15px\; line-height: 27px\;"><span style="margin: 0px\; padding: 0px\; border: 0px\; font-stretch: normal\;">Time: 7a.m &amp\; 1p.m shotgun starts</span></p>\n\n<p style="margin: 0px 0px 0.5em\; padding: 0px\; border: 0px\; color: rgb(102\, 102\, 102)\; font-family: Lato\, sans-serif\; font-size: 15px\; line-height: 27px\;">Prices: (prices include breakfast and lunch)</p>\n\n<ul style="margin: -0.125em 0px 1.5em\; padding-right: 0px\; padding-left: 0px\; list-style-type: none\; color: rgb(102\, 102\, 102)\; font-family: Lato\, sans-serif\; font-size: 15px\; line-height: 27px\;">\n	<li style="margin: 0px\; padding: 0px\;">Early-bird (before August 1) : $90.00 per person</li>\n	<li style="margin: 0px\; padding: 0px\;">After August 1 : $100.00 per person</li>\n</ul>\n\n<p style="margin: 0px 0px 0.5em\; padding: 0px\; border: 0px\; color: rgb(102\, 102\, 102)\; font-family: Lato\, sans-serif\; font-size: 15px\; line-height: 27px\;">Please register to golf using this link:&nbsp\;<a href="http://westdesmoinesiacoc.weblinkconnect.com/events/Wild-West-Golf-Shoot-Out--347/details">http://westdesmoinesiacoc.weblinkconnect.com/events/Wild-West-Golf-Shoot-Out--347/details</a><br />\n&nbsp\;</p>\n\n<p style="margin: 0px 0px 0.5em\; padding: 0px\; border: 0px\; color: rgb(102\, 102\, 102)\; font-family: Lato\, sans-serif\; font-size: 15px\; line-height: 27px\;"><span style="margin: 0px\; padding: 0px\; border: 0px\; font-stretch: normal\;">If paying with a check\, send to: (your spot is not guaranteed until payment is received)</span></p>\n\n<p style="margin: 0px 0px 0.5em\; padding: 0px\; border: 0px\;"><span style="margin: 0px\; padding: 0px\; border: 0px\; color: rgb(102\, 102\, 102)\; font-family: Lato\, sans-serif\; font-size: 15px\; line-height: 27px\; font-stretch: normal\;"><strong style="margin: 0px\; padding: 0px\; border: 0px\;">Wild West Golf Shoot Out &nbsp\;</strong></span></p>\n\n<p style="margin: 0px 0px 0.5em\; padding: 0px\; border: 0px\;"><span style="margin: 0px\; padding: 0px\; border: 0px\; color: rgb(102\, 102\, 102)\; font-family: Lato\, sans-serif\; font-size: 15px\; line-height: 27px\; font-stretch: normal\;"><strong style="margin: 0px\; padding: 0px\; border: 0px\;">West Des Moines Chamber of Commerce</strong></span></p>\n\n<p style="margin: 0px 0px 0.5em\; padding: 0px\; border: 0px\;"><span style="margin: 0px\; padding: 0px\; border: 0px\; color: rgb(102\, 102\, 102)\; font-family: Lato\, sans-serif\; font-size: 15px\; line-height: 27px\; font-stretch: normal\;"><span style="margin: 0px\; padding: 0px\; border: 0px\; font-stretch: normal\;"><strong style="margin: 0px\; padding: 0px\; border: 0px\;">P.O. Box 65320</strong></span></span></p>\n\n<p style="margin: 0px 0px 0.5em\; padding: 0px\; border: 0px\;"><span style="margin: 0px\; padding: 0px\; border: 0px\; color: rgb(102\, 102\, 102)\; font-family: Lato\, sans-serif\; font-size: 15px\; line-height: 27px\; font-stretch: normal\;"><span style="margin: 0px\; padding: 0px\; border: 0px\; font-stretch: normal\;"><strong style="margin: 0px\; padding: 0px\; border: 0px\;">West Des Moines\, IA 50265</strong></span></span></p>\n
LOCATION:Beaver Creek Golf Course\, 11200 N.W. Towner Dr.\, Grimes
UID:e.1185.4117
SEQUENCE:3
DTSTAMP:20260420T070025Z
URL:http://getaquote-mobile.uniquelyurbandale.com/events/details/wild-west-golf-outing-presented-by-grinnell-state-bank-09-11-2015-4117
END:VEVENT

END:VCALENDAR
