BEGIN:VCALENDAR
VERSION:2.0
PRODID:-//ChamberMaster//Event Calendar 2.0//EN
METHOD:PUBLISH
X-PUBLISHED-TTL:P3D
REFRESH-INTERVAL:P3D
CALSCALE:GREGORIAN
BEGIN:VEVENT
DTSTART;VALUE=DATE:20140905
DTEND;VALUE=DATE:20140906
TRANSP:TRANSPARENT
X-MICROSOFT-CDO-ALLDAYEVENT:TRUE
SUMMARY:Wild West Golf Outing\, Presented by Bob Brown Chevrolet
DESCRIPTION:Come and enjoy a day in the West with the Clive\, Urbandale and West Des Moines Chambers! 18 holes of golf with cart\, free lunch and chance to win door prizes and raffles! 4 person best ball.\n\nRegister your foursome by contacting the West Des Moines Chamber at (515) 225-6009 or register online HERE. \n\nTee times are 7 am or 1 pm\n\n\n\nLocation: Beaver Creek Golf Course\, 11200 N.W. Towner Dr.\, Grimes\n\nCost: is $90/person before August 1st\n\n$100/person after August 1st\n\nAll fees must be paid in advance of play.\n\nUnpaid registrants will not be allowed to participate.\n\nCancellation deadline is Friday\, August 29.\n\nNo refunds will made after that date.
X-ALT-DESC;FMTTYPE=text/html:<p>Come and enjoy a day in the West with the Clive\,&nbsp\;Urbandale&nbsp\;and West Des Moines Chambers! 18 holes of golf with cart\, free lunch and chance to win door prizes and raffles! 4 person best ball.<br />\nRegister your foursome by contacting the West Des Moines Chamber at (515) 225-6009 or register online <a href="http://www.wdmchamber.org/event/special-events/wild-west-golf.html">HERE</a>.&nbsp\;<br />\nTee times are 7 am or 1 pm<br />\n<br />\nLocation: Beaver Creek Golf Course\, 11200&nbsp\;N.W.&nbsp\;Towner&nbsp\;Dr.\, Grimes</p>\n\n<p>Cost: is $90/person before August&nbsp\;1st</p>\n\n<p>$100/person after August&nbsp\;1st<br />\nAll fees must be paid in advance of play.<br />\nUnpaid registrants will not be allowed to participate.<br />\nCancellation deadline is Friday\, August 29.<br />\nNo refunds will made after that date.</p>\n
LOCATION:Beaver Creek Golf Course\, 11200 N.W. Towner Dr.\, Grimes
UID:e.1185.3817
SEQUENCE:3
DTSTAMP:20260419T153733Z
URL:http://getaquote-mobile.uniquelyurbandale.com/events/details/wild-west-golf-outing-presented-by-bob-brown-chevrolet-09-05-2014-3817
END:VEVENT

END:VCALENDAR
