BEGIN:VCALENDAR
VERSION:2.0
PRODID:-//ChamberMaster//Event Calendar 2.0//EN
METHOD:PUBLISH
X-PUBLISHED-TTL:P3D
REFRESH-INTERVAL:P3D
CALSCALE:GREGORIAN
BEGIN:VEVENT
DTSTART:20170509T223000Z
DTEND:20170510T010000Z
X-MICROSOFT-CDO-ALLDAYEVENT:FALSE
SUMMARY:Wheels & Heels
DESCRIPTION:Fancy Fox will be debuting a line of bicycle-themed posters at the Wheels & Heels event on Tuesday\, May 9 in honor of National Bike Month! \n\nIf you're into RAGBRAI\, the occasional Sunday afternoon leisurely ride\, shredding dirt\, bicycle commuting\, racing\, haven't-ridden-a-bike-in-years-but-like-the-idea\, COME TO WHEELS AND HEELS!\n\n\n\nThis unique fashion show presents women with ideas to integrate cycling into their social and daily life. Whether it's a quick trip to the grocery or an organized ride to Perry\, we'll present options for clothing\, gear and bikes from local businesses that will keep the focus on the fun! Wine by the bottle will be available from Jasper Winery\, and coolers are permitted. Snacks will be provided. (P.S. The guys are welcome\, too!)
X-ALT-DESC;FMTTYPE=text/html:<p>Fancy Fox will be debuting a line of bicycle-themed posters at the&nbsp\;<a class="profileLink" href="https://www.facebook.com/events/128852560987398/?acontext=%7B%22source%22%3A3%2C%22source_newsfeed_story_type%22%3A%22regular%22%2C%22action_history%22%3A%22%5B%7B%5C%22surface%5C%22%3A%5C%22newsfeed%5C%22%2C%5C%22mechanism%5C%22%3A%5C%22feed_story%5C%22%2C%5C%22extra_data%5C%22%3A%5B%5D%7D%5D%22%2C%22has_source%22%3Atrue%7D&amp\;source=3&amp\;source_newsfeed_story_type=regular&amp\;action_history=%5B%7B%22surface%22%3A%22newsfeed%22%2C%22mechanism%22%3A%22feed_story%22%2C%22extra_data%22%3A%5B%5D%7D%5D&amp\;has_source=1" style="color: rgb(54\, 88\, 153)\; cursor: pointer\; text-decoration: none\; font-family: inherit\;">Wheels &amp\; Heels</a>&nbsp\;event on Tuesday\, May 9 in honor of National Bike Month!&nbsp\;</p>\n\n<p>If you&#39\;re into RAGBRAI\, the occasional Sunday afternoon leisurely ride\, shredding dirt\, bicycle commuting\, racing\, haven&#39\;t-ridden-a-bike-in-years-but-like-the-idea\, COME TO WHEELS AND HEELS!<br />\n<br />\n<span style="font-size:12px"><span style="font-family:arial\,helvetica\,sans-serif"><span style="color:rgb(78\, 64\, 57)">This unique fashion show presents women with ideas to integrate cycling into their social and daily life. Whether it&rsquo\;s a quick trip to the grocery or an organized ride to Perry\, we&rsquo\;ll present options for clothing\, gear and bikes from local businesses that will keep the focus on the fun! Wine by the bottle will be available from Jasper Winery\, and coolers are permitted. Snacks will be provided. (P.S. The guys are welcome\, too!)</span></span></span></p>\n
LOCATION:Windsor Heights Community Center Colby Park at 6900 School St.
UID:e.1185.6203
SEQUENCE:3
DTSTAMP:20260421T120034Z
URL:http://getaquote-mobile.uniquelyurbandale.com/events/details/wheels-heels-6203
END:VEVENT

END:VCALENDAR
