BEGIN:VCALENDAR
VERSION:2.0
PRODID:-//ChamberMaster//Event Calendar 2.0//EN
METHOD:PUBLISH
X-PUBLISHED-TTL:P3D
REFRESH-INTERVAL:P3D
CALSCALE:GREGORIAN
BEGIN:VEVENT
DTSTART:20170516T230000Z
DTEND:20170517T000000Z
X-MICROSOFT-CDO-ALLDAYEVENT:FALSE
SUMMARY:Wellness Night!
DESCRIPTION:Wellness Night Summer is just around the corner   it's time to shape up! Join us for a complimentary fitness session with personal trainer and coach Alyssa Ames. Date: Tuesday\, May 16th\, 2017 Time: 6:00pm Place: Hotel Renovo
X-ALT-DESC;FMTTYPE=text/html:Wellness Night Summer is just around the corner &ndash\; it&rsquo\;s time to shape up! Join us for a complimentary fitness session with personal trainer and coach Alyssa Ames. Date: Tuesday\, May 16th\, 2017 Time: 6:00pm Place: Hotel Renovo
LOCATION:Hotel Renovo 11167 Hickman Rd-Urbandale
UID:e.1185.6206
SEQUENCE:3
DTSTAMP:20260421T120032Z
URL:http://getaquote-mobile.uniquelyurbandale.com/events/details/wellness-night-6206
END:VEVENT

END:VCALENDAR
