BEGIN:VCALENDAR
VERSION:2.0
PRODID:-//ChamberMaster//Event Calendar 2.0//EN
METHOD:PUBLISH
X-PUBLISHED-TTL:P3D
REFRESH-INTERVAL:P3D
CALSCALE:GREGORIAN
BEGIN:VEVENT
DTSTART;VALUE=DATE:20150510
DTEND;VALUE=DATE:20150513
TRANSP:TRANSPARENT
X-MICROSOFT-CDO-ALLDAYEVENT:TRUE
SUMMARY:Washington D.C. Trip
DESCRIPTION:
X-ALT-DESC;FMTTYPE=text/html:
LOCATION:
UID:e.1185.4108
SEQUENCE:3
DTSTAMP:20260420T012453Z
URL:http://getaquote-mobile.uniquelyurbandale.com/events/details/washington-d-c-trip-05-10-2015-4108
END:VEVENT

END:VCALENDAR
