BEGIN:VCALENDAR
VERSION:2.0
PRODID:-//ChamberMaster//Event Calendar 2.0//EN
METHOD:PUBLISH
X-PUBLISHED-TTL:P3D
REFRESH-INTERVAL:P3D
CALSCALE:GREGORIAN
BEGIN:VEVENT
DTSTART:20141112T230000Z
DTEND:20141113T003000Z
X-MICROSOFT-CDO-ALLDAYEVENT:FALSE
SUMMARY:Volunteer Appreciation Reception\, Presented by Chocolaterie Stam
DESCRIPTION:Any person that volunteered for the Chamber in 2014\, will receive a special emailed invitation to this event.  Thank you for your volunteerism.\n\n\n\nLocation: Urbandale Chamber of Commerce RODAN Board Room
X-ALT-DESC;FMTTYPE=text/html:<p>Any person that volunteered for the Chamber in 2014\, will receive a special emailed invitation to this event. &nbsp\;Thank you for your volunteerism.<br />\n<br />\nLocation: Urbandale Chamber of Commerce RODAN Board Room<br />\n<br />\n&nbsp\;</p>\n
LOCATION:
UID:e.1185.3857
SEQUENCE:3
DTSTAMP:20260419T165110Z
URL:http://getaquote-mobile.uniquelyurbandale.com/events/details/volunteer-appreciation-reception-presented-by-chocolaterie-stam-11-12-2014-3857
END:VEVENT

END:VCALENDAR
