BEGIN:VCALENDAR
VERSION:2.0
PRODID:-//ChamberMaster//Event Calendar 2.0//EN
METHOD:PUBLISH
X-PUBLISHED-TTL:P3D
REFRESH-INTERVAL:P3D
CALSCALE:GREGORIAN
BEGIN:VEVENT
DTSTART:20151014T220000Z
DTEND:20151014T233000Z
X-MICROSOFT-CDO-ALLDAYEVENT:FALSE
SUMMARY:Volunteer Appreciation Reception
DESCRIPTION:Any person that volunteered for the Chamber in 2015\, will receive a special emailed invitation to this event.  Thank you for your volunteerism.\n\n\n\nGold Sponsors: Devilish Pig Bakery and The Zone of Comfort\n\n\n\nLocation: Urbandale Chamber of Commerce RODAN Board Room
X-ALT-DESC;FMTTYPE=text/html:<p>Any person that volunteered for the Chamber in 2015\, will receive a special emailed invitation to this event. &nbsp\;Thank you for your volunteerism.<br />\n<br />\nGold Sponsors: Devilish Pig Bakery and The Zone of Comfort<br />\n<br />\nLocation: Urbandale Chamber of Commerce RODAN Board Room<br />\n<br />\n&nbsp\;</p>\n
LOCATION:
UID:e.1185.4122
SEQUENCE:3
DTSTAMP:20260420T100730Z
URL:http://getaquote-mobile.uniquelyurbandale.com/events/details/volunteer-appreciation-reception-10-14-2015-4122
END:VEVENT

END:VCALENDAR
