BEGIN:VCALENDAR
VERSION:2.0
PRODID:-//ChamberMaster//Event Calendar 2.0//EN
METHOD:PUBLISH
X-PUBLISHED-TTL:P3D
REFRESH-INTERVAL:P3D
CALSCALE:GREGORIAN
BEGIN:VEVENT
DTSTART:20200603T130000Z
DTEND:20200603T150000Z
X-MICROSOFT-CDO-ALLDAYEVENT:FALSE
SUMMARY:Virtual MOXIE Business Owner Roundtable
DESCRIPTION:MOXIE (Member Owners eXchange Information & Experience) Plus is a group of member business Owners/Presidents who meet monthly with Greg Thompson\, ActionCoach\, to discuss issues impacting their businesses. All member Business Owners/Presidents are invited to participate.  Everyone must sign a confidentiality clause.
X-ALT-DESC;FMTTYPE=text/html:<span class="scayt-misspell-word"><span style="font-size: 10pt\; font-family: Arial\, sans-serif\;">MOXIE</span></span><span class="apple-converted-space"><span style="font-size: 10pt\; font-family: Arial\, sans-serif\;">&nbsp\;</span></span><span style="font-size: 10pt\; font-family: Arial\, sans-serif\;">(Member Owners&nbsp\;<span class="scayt-misspell-word">eXchange</span>&nbsp\;Information &amp\; Experience) Plus is a group of member business Owners/Presidents&nbsp\;who meet monthly with Greg Thompson\,<span class="apple-converted-space">&nbsp\;</span><span class="scayt-misspell-word">ActionCoach</span>\, to discuss issues impacting their businesses.&nbsp\;</span><span class="apple-converted-space"><span style="font-size: 10pt\; font-family: Arial\, sans-serif\;">All member Business Owners/Presidents are invited to participate.&nbsp\; Everyone must sign a confidentiality clause.</span></span>
LOCATION:Registered attendees will receive a link to the Zoom meeting in the confirmation email.
UID:e.1185.10814
SEQUENCE:3
DTSTAMP:20260423T215011Z
URL:http://getaquote-mobile.uniquelyurbandale.com/events/details/virtual-moxie-business-owner-roundtable-10814
END:VEVENT

END:VCALENDAR
