BEGIN:VCALENDAR
VERSION:2.0
PRODID:-//ChamberMaster//Event Calendar 2.0//EN
METHOD:PUBLISH
X-PUBLISHED-TTL:P3D
REFRESH-INTERVAL:P3D
CALSCALE:GREGORIAN
BEGIN:VEVENT
DTSTART:20200401T130000Z
DTEND:20200401T150000Z
X-MICROSOFT-CDO-ALLDAYEVENT:FALSE
SUMMARY:VIRTUAL MEETING - MOXIE Business Owner Roundtable
DESCRIPTION:Due to COVID-19 concerns\, the MOXIE Business Owner Roundtable will be held as a virtual meeting until further notice.\n\n\n\nMOXIE (Member Owners eXchange Information & Experience) is a group of member business Owners/Presidents who meet monthly with Greg Thompson\, ActionCoach\, to discuss issues impacting their businesses. All member Business Owners/Presidents are invited to participate.  Everyone must sign a confidentiality clause.
X-ALT-DESC;FMTTYPE=text/html:<strong><span style="font-family: arial\, sans-serif\;"><span style="font-size: 13.5pt\;">Due to COVID-19 concerns\, the MOXIE Business Owner Roundtable will be held as a virtual meeting until further notice.</span></span></strong><br />\n<br />\n<span class="scayt-misspell-word" style="font-family: tahoma\; font-size: 12px\;">MOXIE</span><span class="apple-converted-space" style="font-family: tahoma\; font-size: 12px\;">&nbsp\;</span><span style="font-family: tahoma\; font-size: 12px\;">(Member Owners&nbsp\;</span><span class="scayt-misspell-word" style="font-family: tahoma\; font-size: 12px\;">eXchange</span><span style="font-family: tahoma\; font-size: 12px\;">&nbsp\;Information &amp\; Experience) is a group of member business Owners/Presidents&nbsp\;who meet monthly with Greg Thompson\,</span><span class="apple-converted-space" style="font-family: tahoma\; font-size: 12px\;">&nbsp\;</span><span class="scayt-misspell-word" style="font-family: tahoma\; font-size: 12px\;">ActionCoach</span><span style="font-family: tahoma\; font-size: 12px\;">\, to discuss issues impacting their businesses.&nbsp\;</span><span class="apple-converted-space" style="font-family: tahoma\; font-size: 12px\;">All member Business Owners/Presidents are invited to participate.&nbsp\; Everyone must sign a confidentiality clause.</span>
LOCATION:WebEx information will be provided to those registered on the day of the meeting. How to Join a Webex Meeting If this is your first time using Webex\, please plan to join the meeting five minutes early to allow time to get Webex set-up. 1. Click the meeting link. 2. Download the Webex desktop application when prompted. Webex may ask you to download an application to access the meeting. 3. Sign-in to Webex. Simply enter your first and last name and your email to join the meeting. 4. Click "Join Meeting". Webex will automatically connect your audio and video. We encourage the use of video to have more interaction between attendees. You may also choose to call into the meeting using the call-in information provided if you do not have a microphone on your computer. 5. Introduce yourself! We will ask you to introduce yourself upon joining the meeting. After\, please mute your audio using the Mute/Unmute button. This helps guard against audio feedback. For more detailed instructions\, please visit the Webex Help Center.
UID:e.1185.10847
SEQUENCE:3
DTSTAMP:20260423T185652Z
URL:http://getaquote-mobile.uniquelyurbandale.com/events/details/virtual-meeting-moxie-business-owner-roundtable-10847
END:VEVENT

END:VCALENDAR
