BEGIN:VCALENDAR
VERSION:2.0
PRODID:-//ChamberMaster//Event Calendar 2.0//EN
METHOD:PUBLISH
X-PUBLISHED-TTL:P3D
REFRESH-INTERVAL:P3D
CALSCALE:GREGORIAN
BEGIN:VEVENT
DTSTART:20200318T130000Z
DTEND:20200318T140000Z
X-MICROSOFT-CDO-ALLDAYEVENT:FALSE
SUMMARY:VIRTUAL MEETING - genYP Communications/Marketing Committee Meeting
DESCRIPTION:genYP committee meetings will be held virtually until further notice due to COVID-19 concerns.\n\n\n\nThis is the monthly meeting for those on the Communications/Marketing Committee for genYP.  This committee is responsible for managing the social media outlets\, monthly newsletter\, and marketing materials. Meetings are every 3rd Wednesday at 8:00 am at Urbandale Chamber. \n\n\n\nIf you are interested in learning more\, please feel free to contact our co-chairs below or stop by one of our meetings. \nSarah Nielson                snielsen@showplacekitchens.com\n\nMegan Ries                    dr.meganries@gmail.com\n\nCo-Chairs then report back to the leadership team\n\n\n\nExpectations:\n\n-Regular attendance of Events for taking photos for content\n\n-Attendance to monthly meetings (We will be planning and scheduling content for the next month)\n\n-Helping create event postings and content\n\n-Bringing new ideas for marketing possibilities
X-ALT-DESC;FMTTYPE=text/html:<strong><span style="font-size: 18px\;">genYP committee meetings will be held virtually until further notice due to COVID-19 concerns.</span></strong><br />\n<br />\nThis is the monthly meeting for those on the Communications/Marketing Committee for genYP.&nbsp\; This committee is responsible for managing the social media outlets\, monthly newsletter\, and marketing materials. Meetings are every 3rd Wednesday at 8:00 am at Urbandale Chamber.&nbsp\;<br />\n<br />\nIf you are interested in learning more\, please feel free to contact our co-chairs below or stop by one of our meetings.&nbsp\;\n<p>Sarah Nielson&nbsp\; &nbsp\; &nbsp\; &nbsp\; &nbsp\; &nbsp\; &nbsp\; &nbsp\;<a href="mailto:snielsen@showplacekitchens.com">&nbsp\;snielsen@showplacekitchens.com</a></p>\n\n<p>Megan Ries&nbsp\; &nbsp\; &nbsp\; &nbsp\; &nbsp\; &nbsp\; &nbsp\; &nbsp\; &nbsp\; &nbsp\; <a href="mailto:dr.meganries@gmail.com">dr.meganries@gmail.com</a></p>\n\n<p>Co-Chairs then report back to the leadership team<br />\n<br />\nExpectations:<br />\n-Regular attendance of Events for taking photos for content<br />\n-Attendance to monthly meetings (We will be planning and scheduling content for the next month)<br />\n-Helping create event postings and content<br />\n-Bringing new ideas for marketing possibilities<br />\n&nbsp\;</p>\n
LOCATION:Join virtual meeting here. Meeting number: 628 801 518 Password: 12345 Join by phone +1-408-418-9388 United States Toll Access code: 628 801 518 How to Join a Webex Meeting If this is your first time using Webex\, please plan to join the meeting five minutes early to allow time to get Webex set-up. 1. Click the meeting link. 2. Download the Webex desktop application when prompted. Webex may ask you to download an application to access the meeting. 3. Sign-in to Webex. Simply enter your first and last name and your email to join the meeting. 4. Click "Join Meeting". Webex will automatically connect your audio and video. We encourage the use of video to have more interaction between attendees. You may also choose to call into the meeting using the call-in information provided above if you do not have a microphone on your computer. 5. Introduce yourself! We will ask you to introduce yourself upon joining the meeting. After\, please mute your audio using the Mute/Unmute button. This helps guard against audio feedback. For more detailed instructions\, please visit the Webex Help Center.
UID:e.1185.9542
SEQUENCE:3
DTSTAMP:20260423T173623Z
URL:http://getaquote-mobile.uniquelyurbandale.com/events/details/virtual-meeting-genyp-communications-marketing-committee-meeting-9542
END:VEVENT

END:VCALENDAR
