BEGIN:VCALENDAR
VERSION:2.0
PRODID:-//ChamberMaster//Event Calendar 2.0//EN
METHOD:PUBLISH
X-PUBLISHED-TTL:P3D
REFRESH-INTERVAL:P3D
CALSCALE:GREGORIAN
BEGIN:VEVENT
DTSTART:20200513T133000Z
DTEND:20200513T150000Z
X-MICROSOFT-CDO-ALLDAYEVENT:FALSE
SUMMARY:VIRTUAL MEETING - Contacts & Contracts Wednesday AM Group\, Presented by Jon Smith - Iowa Realty
DESCRIPTION:Contacts & Contracts will be held virtually until further notice due to COVID-19 concerns.\n\n\n\nConnecting U! Contacts & Contracts is a group formed for members to develop deeper business relationships with the purpose of lead sharing and referrals.\n\n\n\nThe group is limited by size and industry. Membership to the group is annual and members must commit to coming to 90% of the meetings\, which are held every month from 8:30-10:00 am in the RODAN Board Room at the Chamber office\, located at 2830 100th Street\, Ste #110.\, Urbandale.\n\nReservations to participate monthly are required.\n\n\n\nPlease contact Tiffany Menke (tmenke@urbandalechamber.com) if you are interested in participating in this group.  Cost is $50 per year.
X-ALT-DESC;FMTTYPE=text/html:<strong><span style="font-size: 18px\;">Contacts &amp\; Contracts will be held virtually until further notice due to COVID-19 concerns.</span></strong><br />\n<br />\n<span style="font-family:arial\,sans-serif\;"><span style="font-size:10pt\;">Connecting U! Contacts &amp\; Contracts is a group formed for members to develop deeper business relationships with the purpose of lead sharing and referrals.</span></span><br />\n<br />\n<span style="font-family:arial\,sans-serif\;"><span style="font-size:10pt\;">The group is limited by size and industry. Membership to the group is annual and members must commit to coming to 90% of the meetings\, which are held every month from 8:30-10:00 am in the&nbsp\;</span></span><span style="font-family:arial\,sans-serif\;"><span style="font-size:10pt\;"><span data-scayt-lang="en_US" data-scayt-word="RODAN" style="background-image:url(&quot\;waveline.gif&quot\;)\;">RODAN</span></span></span><span style="font-family:arial\,sans-serif\;"><span style="font-size:10pt\;">&nbsp\;Board Room at the Chamber office\, located at 2830&nbsp\;</span></span><span style="font-family:arial\,sans-serif\;"><span style="font-size:10pt\;"><span data-scayt-lang="en_US" data-scayt-word="100th" style="background-image:url(&quot\;waveline.gif&quot\;)\;">100th</span></span></span><span style="font-family:arial\,sans-serif\;"><span style="font-size:10pt\;">&nbsp\;Street\, Ste #110.\,&nbsp\;</span></span><span style="font-family:arial\,sans-serif\;"><span style="font-size:10pt\;"><span data-scayt-lang="en_US" data-scayt-word="Urbandale" style="background-image:url(&quot\;waveline.gif&quot\;)\;">Urbandale</span></span></span><span style="font-family:arial\,sans-serif\;"><span style="font-size:10pt\;">.</span></span><br />\n<span style="font-family:arial\,sans-serif\;"><span style="font-size:10pt\;">Reservations to participate monthly are required.</span></span><br />\n<br />\n<span style="font-family:arial\,sans-serif\;"><span style="font-size:10pt\;">Please contact Tiffany&nbsp\;</span></span><span style="font-family:arial\,sans-serif\;"><span style="font-size:10pt\;"><span data-scayt-lang="en_US" data-scayt-word="Menke" style="background-image:url(&quot\;waveline.gif&quot\;)\;">Menke</span></span></span><span style="font-family:arial\,sans-serif\;"><span style="font-size:10pt\;">&nbsp\;(</span></span><u><span style="font-family:arial\,sans-serif\;"><span style="font-size:10pt\;"><span data-scayt-lang="en_US" data-scayt-word="tmenke" style="background-image:url(&quot\;waveline.gif&quot\;)\;">tmenke</span></span></span></u><u><span style="font-family:arial\,sans-serif\;"><span style="font-size:10pt\;">@urbandalechamber.com</span></span></u><span style="font-family:arial\,sans-serif\;"><span style="font-size:10pt\;">) if you are interested in participating in this group. &nbsp\;Cost is $50 per year.</span></span>
LOCATION:A link to join the virtual meeting will be sent to participants of the Contacts & Contracts Wednesday AM Group. How to Join a Webex Meeting If this is your first time using Webex\, please plan to join the meeting five minutes early to allow time to get Webex set-up. 1. Click the meeting link. 2. Download the Webex desktop application when prompted. Webex may ask you to download an application to access the meeting. 3. Sign-in to Webex. Simply enter your first and last name and your email to join the meeting. 4. Click "Join Meeting". Webex will automatically connect your audio and video. We encourage the use of video to have more interaction between attendees. You may also choose to call into the meeting using the call-in information provided above if you do not have a microphone on your computer. 5. Introduce yourself! We will ask you to introduce yourself upon joining the meeting. After\, please mute your audio using the Mute/Unmute button. This helps guard against audio feedback. For more detailed instructions\, please visit the Webex Help Center.
UID:e.1185.10466
SEQUENCE:3
DTSTAMP:20260423T215303Z
URL:http://getaquote-mobile.uniquelyurbandale.com/events/details/virtual-meeting-contacts-contracts-wednesday-am-group-presented-by-jon-smith-iowa-realty-05-13-2020-10466
END:VEVENT

END:VCALENDAR
