BEGIN:VCALENDAR
VERSION:2.0
PRODID:-//ChamberMaster//Event Calendar 2.0//EN
METHOD:PUBLISH
X-PUBLISHED-TTL:P3D
REFRESH-INTERVAL:P3D
CALSCALE:GREGORIAN
BEGIN:VEVENT
DTSTART:20200414T163000Z
DTEND:20200414T180000Z
X-MICROSOFT-CDO-ALLDAYEVENT:FALSE
SUMMARY:VIRTUAL MEETING - Connector Meeting
DESCRIPTION:Due to COVID-19 concerns\, Connector Meetings will be held virtually until further notice. \n\n\n\nIf you are interested in becoming a Chamber Connector\, please contact our chair: Jay Mathes (welcomelg@edencrestliving.com).\n\n\n\nConnectors promote and support the role of the Urbandale Chamber of Commerce as the welcoming arm of the Chamber.  It is a privilege to be a part of this group and it shall be limited in number not to exceed 10% of the membership.\n\nMeetings are held monthly on the second Tuesday from 11:30-1:00 pm.  Locations will vary from month to month.\n\nOur Featured Connectors are:   Roger Stalheim & James Patten
X-ALT-DESC;FMTTYPE=text/html:<p font-size:="" style="color: rgb(51\, 51\, 51)\; font-family: sans-serif\, Arial\, Verdana\, &quot\;Trebuchet MS&quot\;\; font-size: 13px\;" trebuchet=""><span style="font-size: 10pt\;"><strong><span style="font-size:16px\;">Due to COVID-19 concerns\, Connector Meetings will be held virtually until further notice.&nbsp\;</span></strong><br />\n<br />\nIf you are interested in becoming a Chamber Connector\, please contact our chair: Jay Mathes&nbsp\;(<a href="mailto:welcomelg@edencrestliving.com" style="color: rgb(7\, 130\, 193)\;">welcomelg@edencrestliving.com</a>).<br />\n<br />\nConnectors promote and support the role of the Urbandale Chamber of Commerce as the welcoming arm of the Chamber.&nbsp\; It is a privilege to be a part of this group and it shall be limited in number not to exceed 10% of the membership.</span></p>\n\n<p font-size:="" style="color: rgb(51\, 51\, 51)\; font-family: sans-serif\, Arial\, Verdana\, &quot\;Trebuchet MS&quot\;\; font-size: 13px\;" trebuchet=""><span style="font-size: 10pt\;">Meetings are held monthly on the second Tuesday from 11:30-1:00 pm.&nbsp\; Locations will vary from month to month.</span><br />\n<u style="color: rgb(51\, 51\, 51)\; font-family: sans-serif\, Arial\, Verdana\, &quot\;Trebuchet MS&quot\;\; font-size: 13px\;"><strong>Our Featured Connectors are:</strong></u><strong style="color: rgb(51\, 51\, 51)\; font-family: sans-serif\, Arial\, Verdana\, &quot\;Trebuchet MS&quot\;\; font-size: 13px\;">&nbsp\; &nbsp\;</strong><strong style="color: rgb(51\, 51\, 51)\; font-family: sans-serif\, Arial\, Verdana\, &quot\;Trebuchet MS&quot\;\; font-size: 13px\;"><span style="font-size: 14px\;">Roger Stalheim &amp\; James Patten</span></strong><br />\n&nbsp\;</p>\n
LOCATION:Join virtual meeting here. Meeting number: 626 088 443 Join by phone +1-408-418-9388 United States Toll Access code: 626 088 443 How to Join a Webex Meeting If this is your first time using Webex\, please plan to join the meeting five minutes early to allow time to get Webex set-up. 1. Click the meeting link. 2. Download the Webex desktop application when prompted. Webex may ask you to download an application to access the meeting. 3. Sign-in to Webex. Simply enter your first and last name and your email to join the meeting. 4. Click "Join Meeting". Webex will automatically connect your audio and video. We encourage the use of video to have more interaction between attendees. You may also choose to call into the meeting using the call-in information provided above if you do not have a microphone on your computer. 5. Introduce yourself! We will ask you to introduce yourself upon joining the meeting. After\, please mute your audio using the Mute/Unmute button. This helps guard against audio feedback. For more detailed instructions\, please visit the Webex Help Center.
UID:e.1185.10782
SEQUENCE:3
DTSTAMP:20260423T185438Z
URL:http://getaquote-mobile.uniquelyurbandale.com/events/details/virtual-meeting-connector-meeting-10782
END:VEVENT

END:VCALENDAR
