BEGIN:VCALENDAR
VERSION:2.0
PRODID:-//ChamberMaster//Event Calendar 2.0//EN
METHOD:PUBLISH
X-PUBLISHED-TTL:P3D
REFRESH-INTERVAL:P3D
CALSCALE:GREGORIAN
BEGIN:VEVENT
DTSTART:20200512T163000Z
DTEND:20200512T180000Z
X-MICROSOFT-CDO-ALLDAYEVENT:FALSE
SUMMARY:VIRTUAL MEETING - Connector Meeting
DESCRIPTION:If you are interested in becoming a Chamber Connector\, please contact our chair: Jay Mathes (welcomelg@edencrestliving.com).\n\n\n\nConnectors promote and support the role of the Urbandale Chamber of Commerce as the welcoming arm of the Chamber.  It is a privilege to be a part of this group and it shall be limited in number not to exceed 10% of the membership.\n\nMeetings are held monthly on the second Tuesday from 11:30-1:00 pm.  Locations will vary from month to month.\n\nThis month the meeting will be held at:\n\n\n\nOur Featured Connectors are:   Lisa Hanrahan & Jen Paulsen
X-ALT-DESC;FMTTYPE=text/html:<p style="color: rgb(51\, 51\, 51)\; font-family: sans-serif\, Arial\, Verdana\, &quot\;Trebuchet MS&quot\;\; font-size: 13px\;"><span style="font-size: 10pt\;">If you are interested in becoming a Chamber Connector\, please contact our chair: Jay Mathes&nbsp\;(<a href="mailto:welcomelg@edencrestliving.com" style="color: rgb(7\, 130\, 193)\;">welcomelg@edencrestliving.com</a>).<br />\n<br />\nConnectors promote and support the role of the Urbandale Chamber of Commerce as the welcoming arm of the Chamber.&nbsp\; It is a privilege to be a part of this group and it shall be limited in number not to exceed 10% of the membership.</span></p>\n\n<p style="color: rgb(51\, 51\, 51)\; font-family: sans-serif\, Arial\, Verdana\, &quot\;Trebuchet MS&quot\;\; font-size: 13px\;"><span style="font-size: 10pt\;">Meetings are held monthly on the second Tuesday from 11:30-1:00 pm.&nbsp\; Locations will vary from month to month.</span></p>\n\n<p style="color: rgb(51\, 51\, 51)\; font-family: sans-serif\, Arial\, Verdana\, &quot\;Trebuchet MS&quot\;\; font-size: 13px\;"><span style="font-size: 10pt\;">This month&nbsp\;the meeting will be held at:</span><br />\n<br />\n<u style="color: rgb(51\, 51\, 51)\; font-family: sans-serif\, Arial\, Verdana\, &quot\;Trebuchet MS&quot\;\; font-size: 13px\;"><strong>Our Featured Connectors are:</strong></u><strong style="color: rgb(51\, 51\, 51)\; font-family: sans-serif\, Arial\, Verdana\, &quot\;Trebuchet MS&quot\;\; font-size: 13px\;">&nbsp\; &nbsp\;</strong><strong style="color: rgb(51\, 51\, 51)\; font-family: sans-serif\, Arial\, Verdana\, &quot\;Trebuchet MS&quot\;\; font-size: 13px\;"><span style="font-size: 14px\;">Lisa Hanrahan &amp\; Jen Paulsen</span></strong></p>\n
LOCATION:A link to the virtual meeting will be sent to Connectors prior to the meeting.
UID:e.1185.10783
SEQUENCE:3
DTSTAMP:20260423T202218Z
URL:http://getaquote-mobile.uniquelyurbandale.com/events/details/virtual-meeting-connector-meeting-05-12-2020-10783
END:VEVENT

END:VCALENDAR
