BEGIN:VCALENDAR
VERSION:2.0
PRODID:-//ChamberMaster//Event Calendar 2.0//EN
METHOD:PUBLISH
X-PUBLISHED-TTL:P3D
REFRESH-INTERVAL:P3D
CALSCALE:GREGORIAN
BEGIN:VEVENT
DTSTART:20201118T173000Z
DTEND:20201118T190000Z
X-MICROSOFT-CDO-ALLDAYEVENT:FALSE
SUMMARY:Virtual Joint Legislative Luncheon with Urbandale\, Ankeny\, Grimes\, Johnston and Polk City Chambers of Commerce
DESCRIPTION:The Urbandale\, Ankeny\, Grimes\, Johnston and Polk City Chambers of Commerce invite you to attend our Joint Legislative Forum to hear from your State Representatives and State Senators.\n\n\n\nPlease use this link to register.
X-ALT-DESC;FMTTYPE=text/html:<span style="font-size:14px\;"><span style="font-family:arial\;"><span style="color: rgb(68\, 68\, 68)\; background-color: rgb(255\, 255\, 255)\;">The&nbsp\;Urbandale\, Ankeny\, Grimes\, Johnston and Polk City Chambers of Commerce invite you to attend our Joint Legislative Forum to hear from your State Representatives and&nbsp\;State Senators.</span><br />\n<br />\nPlease use <a href="https://business.grimesiowa.com/events/details/joint-legislative-luncheon-1512?calendarMonth=2020-11-01">this link</a> to register.&nbsp\;</span></span>
LOCATION:A Zoom Link will be sent to registered attendees. Please use this link to register.
UID:e.1185.10784
SEQUENCE:3
DTSTAMP:20260424T043906Z
URL:http://getaquote-mobile.uniquelyurbandale.com/events/details/virtual-joint-legislative-luncheon-with-urbandale-ankeny-grimes-johnston-and-polk-city-chambers-of-commerce-10784
END:VEVENT

END:VCALENDAR
