BEGIN:VCALENDAR
VERSION:2.0
PRODID:-//ChamberMaster//Event Calendar 2.0//EN
METHOD:PUBLISH
X-PUBLISHED-TTL:P3D
REFRESH-INTERVAL:P3D
CALSCALE:GREGORIAN
BEGIN:VEVENT
DTSTART:20201022T210000Z
DTEND:20201022T220000Z
X-MICROSOFT-CDO-ALLDAYEVENT:FALSE
SUMMARY:Virtual genYPM\, Hosted by Two Rivers Bank & Trust
DESCRIPTION:In this structured networking event\, genYP members will be split into small groups and answer business-related questions to get to know each other and start building relationships.  Join us for this event hosted by Two Rivers Bank & Trust!\nThank you to our 2020 genYP Program Investors!\n\nParty On the Lake\n\nShade Tree Auto\n\nBrokers International\n\nTwo Rivers Bank and Trust
X-ALT-DESC;FMTTYPE=text/html:<span style="font-size:14px\;"><span style="font-family:arial\;">In this structured networking event\, genYP members will be split into small groups and answer business-related questions to get to know each other and start building relationships.&nbsp\; Join us for this event hosted by&nbsp\;<a href="https://www.tworivers.bank/">Two Rivers Bank &amp\; Trust</a>!</span></span>\n<p font-size:="" style="color: rgb(51\, 51\, 51)\; text-align: center\;" trebuchet=""><span style="text-align: center\; font-size: 16px\;"><strong><span style="background-image: initial\; background-position: initial\; background-size: initial\; background-repeat: initial\; background-attachment: initial\; background-origin: initial\; background-clip: initial\;"><span style="font-family: arial\, sans-serif\;">Thank you to our 2020 genYP Program Investors!</span></span></strong><br />\n<strong><span style="background-image: initial\; background-position: initial\; background-size: initial\; background-repeat: initial\; background-attachment: initial\; background-origin: initial\; background-clip: initial\;"><span style="font-family: arial\, sans-serif\;"><strong><a href="http://businesses.uniquelyurbandale.com/list/member/party-on-the-lake-6029">Party On the Lake</a></strong><br />\n<strong><a href="http://businesses.uniquelyurbandale.com/list/member/shade-tree-auto-3067">Shade Tree Auto</a></strong><br />\n<strong><a href="http://businesses.uniquelyurbandale.com/list/member/brokers-international-4648">Brokers International</a></strong><br />\n<strong><a href="http://businesses.uniquelyurbandale.com/list/member/two-rivers-bank-trust-1999">Two Rivers Bank and Trust</a></strong></span></span></strong></span></p>\n
LOCATION:A Zoom link will be sent to registered attendees!
UID:e.1185.10830
SEQUENCE:3
DTSTAMP:20260424T031217Z
URL:http://getaquote-mobile.uniquelyurbandale.com/events/details/virtual-genypm-hosted-by-two-rivers-bank-trust-10830
END:VEVENT

END:VCALENDAR
