BEGIN:VCALENDAR
VERSION:2.0
PRODID:-//ChamberMaster//Event Calendar 2.0//EN
METHOD:PUBLISH
X-PUBLISHED-TTL:P3D
REFRESH-INTERVAL:P3D
CALSCALE:GREGORIAN
BEGIN:VEVENT
DTSTART:20200425T153000Z
DTEND:20200425T170000Z
X-MICROSOFT-CDO-ALLDAYEVENT:FALSE
SUMMARY:VIRTUAL EVENT - Talk with Officials Presented by Jon Smith - Iowa Realty
DESCRIPTION:Due to COVID-19 concerns\, Talk with Officials presented by Jon Smith - Iowa Realty will be held virtually. \n\n\n\nTalk with Officials is a forum for the business community to connect with elected officials representing Urbandale at the State\, County\, City and School District.  Space is limited.\n\n\n\nThe April Talk with Officials events is open to the general public and held on the last Saturday. \n\n\n\n Officials attending include Mayor Robert Andeweg\, Senator Brad Zaun\, Representative John Forbes\, Representative Karin Deery\, Polk County Supervisor Bob Brownell and School Board President Katherine Howsare.\n\n\n\nInvited: Representative Chris Hagenow and Senator Jake Chapman\n\n\n\nThank you to Presenting Sponsor\, Jon Smith\, Iowa Realty
X-ALT-DESC;FMTTYPE=text/html:<strong><span style="font-size: 18px\;">Due to COVID-19 concerns\,&nbsp\;Talk with Officials&nbsp\;presented by Jon Smith - Iowa Realty will be held virtually.&nbsp\;</span></strong><br />\n<br />\n<span style="font-size:14px\;"><span style="font-family:arial\;">Talk with Officials is a forum for the business community to connect with elected officials representing Urbandale at the State\, County\, City and School District.&nbsp\; Space is limited.<br />\n<br />\nThe April Talk with Officials events is open to the general public and held on the last Saturday.&nbsp\;<br />\n<br />\n&#8203\;Officials attending include Mayor Robert Andeweg\, Senator Brad Zaun\, Representative John Forbes\, Representative Karin Deery\, Polk County Supervisor Bob Brownell and School Board President Katherine Howsare.<br />\n<br />\nInvited: Representative Chris Hagenow and Senator Jake Chapman<br />\n<br />\n<strong>Thank you to Presenting Sponsor\, Jon Smith\, Iowa Realty&nbsp\;</strong></span></span>
LOCATION:Virtual event held via Webex! Registered attendees will be sent a link to join.
UID:e.1185.10450
SEQUENCE:3
DTSTAMP:20260423T185438Z
URL:http://getaquote-mobile.uniquelyurbandale.com/events/details/virtual-event-talk-with-officials-presented-by-jon-smith-iowa-realty-10450
END:VEVENT

END:VCALENDAR
