BEGIN:VCALENDAR
VERSION:2.0
PRODID:-//ChamberMaster//Event Calendar 2.0//EN
METHOD:PUBLISH
X-PUBLISHED-TTL:P3D
REFRESH-INTERVAL:P3D
CALSCALE:GREGORIAN
BEGIN:VEVENT
DTSTART:20220126T173000Z
DTEND:20220126T190000Z
X-MICROSOFT-CDO-ALLDAYEVENT:FALSE
SUMMARY:VIRTUAL Contacts & Contracts Wednesday PM Group\, Presented by Mark Courter State Farm Insurance
DESCRIPTION:Connecting U! Contacts & Contracts is a group formed for members to develop deeper business relationships with the purpose of lead sharing and referrals.Please contact Tiffany Menke (tmenke@urbandalechamber.com) if you are interested in participating in this group.  Cost is $50 per year.\n\n\nThank you to the Wednesday Afternoon Contacts & Contracts Group Sponsor:\n\nState Farm Insurance   Mark Courter
X-ALT-DESC;FMTTYPE=text/html:Connecting U! Contacts &amp\; Contracts is a group formed for members to develop deeper business relationships with the purpose of lead sharing and referrals.Please contact Tiffany Menke (<u>tmenke@urbandalechamber.com</u>) if you are interested in participating in this group. &nbsp\;Cost is $50 per year.\n<p style="text-align: center\;"><br />\n<strong><span style="background:white\;"><span style="color:#333333\;"><span style="font-family:arial\,sans-serif\;"><span style="font-size:10.0pt\;">Thank you to the Wednesday Afternoon Contacts &amp\; Contracts Group Sponsor:</span></span></span></span></strong><br />\n<a href="http://https://businesses.uniquelyurbandale.com/list/member/state-farm-insurance-mark-courter-urbandale-1310"><strong><span style="background:white\;"><span style="color:#333333\;"><span style="font-family:arial\,sans-serif\;"><span style="font-size:10.0pt\;">State Farm Insurance &ndash\; Mark Courter</span></span></span></span></strong></a></p>\n
LOCATION:THIS MONTH'S MEETING IS ONLY BEING HELD VIRTUALLY DUE TO THE HIGH POSITIVITY RATE IN POLK COUNTY
UID:e.1185.11122
SEQUENCE:3
DTSTAMP:20260425T014524Z
URL:http://getaquote-mobile.uniquelyurbandale.com/events/details/virtual-contacts-contracts-wednesday-pm-group-presented-by-mark-courter-state-farm-insurance-01-26-2022-11122
END:VEVENT

END:VCALENDAR
