BEGIN:VCALENDAR
VERSION:2.0
PRODID:-//ChamberMaster//Event Calendar 2.0//EN
METHOD:PUBLISH
X-PUBLISHED-TTL:P3D
REFRESH-INTERVAL:P3D
CALSCALE:GREGORIAN
BEGIN:VEVENT
DTSTART:20201217T173000Z
DTEND:20201217T190000Z
X-MICROSOFT-CDO-ALLDAYEVENT:FALSE
SUMMARY:Virtual Contacts & Contracts Thursday Group\, Presented by Ben Buenzow State Farm
DESCRIPTION:Connecting U!  Contacts & Contracts is a group formed for members to develop deeper business relationships with the purpose of lead sharing and referrals.\n\nThere is a $50 annual charge for Urbandale Chamber members to participate.  The group is limited to one person per industry.  Membership to the group is annual and members must commit to attending the monthly meetings\, which are held the last Thursday of every month from 11:30   1 p.m.\n\nReservations to participate monthly are required. \n\nPlease contact Tiffany Menke (Tmenke@urbandalechamber) if you are interested in participating in this group.
X-ALT-DESC;FMTTYPE=text/html:<p>Connecting U!&nbsp\; Contacts &amp\; Contracts is a group formed for members to develop deeper business relationships with the purpose of lead sharing and referrals.</p>\n\n<p>There is a $50 annual charge for Urbandale Chamber members to participate.&nbsp\; The group is limited to one person per industry.&nbsp\; Membership to the group is annual and members must commit to attending&nbsp\;the monthly meetings\, which are held the last Thursday of every month from 11:30 &ndash\; 1 p.m.</p>\n\n<p>Reservations to participate monthly are required.&nbsp\;</p>\n\n<p>Please contact Tiffany Menke (<a href="mailto:Tmenke@urbandalechamber">Tmenke@urbandalechamber</a>) if you are interested in participating in this group.</p>\n
LOCATION:Virtual meeting. A ZOOM link was sent to the participants of this Contacts & Contracts group.
UID:e.1185.10986
SEQUENCE:3
DTSTAMP:20260424T060215Z
URL:http://getaquote-mobile.uniquelyurbandale.com/events/details/virtual-contacts-contracts-thursday-group-presented-by-ben-buenzow-state-farm-12-17-2020-10986
END:VEVENT

END:VCALENDAR
