BEGIN:VCALENDAR
VERSION:2.0
PRODID:-//ChamberMaster//Event Calendar 2.0//EN
METHOD:PUBLISH
X-PUBLISHED-TTL:P3D
REFRESH-INTERVAL:P3D
CALSCALE:GREGORIAN
BEGIN:VEVENT
DTSTART:20200624T140000Z
DTEND:20200624T150000Z
X-MICROSOFT-CDO-ALLDAYEVENT:FALSE
SUMMARY:Virtual Board Meeting
DESCRIPTION:
X-ALT-DESC;FMTTYPE=text/html:
LOCATION:A Webex link will be sent to members of the Urbandale Chamber Board of Directors.
UID:e.1185.2631
SEQUENCE:3
DTSTAMP:20260423T214830Z
URL:http://getaquote-mobile.uniquelyurbandale.com/events/details/virtual-board-meeting-2631
END:VEVENT

END:VCALENDAR
