BEGIN:VCALENDAR
VERSION:2.0
PRODID:-//ChamberMaster//Event Calendar 2.0//EN
METHOD:PUBLISH
X-PUBLISHED-TTL:P3D
REFRESH-INTERVAL:P3D
CALSCALE:GREGORIAN
BEGIN:VEVENT
DTSTART:20170610T140000Z
DTEND:20170611T210000Z
X-MICROSOFT-CDO-ALLDAYEVENT:FALSE
SUMMARY:Vintage & Made Fair
DESCRIPTION:VINTAGE & MADE FAIR is inspired by indie craft and all things vintage. Vintage & Made Fair is an outdoor market featuring antique and vintage home d cor\, jewelry\, handcrafted goods\, outdoor accents\, seasonal flora\, food trucks\, live music and everything you need to create a vintage and handmade lifestyle. The fair is a 2-day event where shoppers and vendors can share a love for vintage and indie craft at our New Location\, Living History Farms\, in Urbandale\, Iowa. BuzzFeed ranked the Fair as one of the Top 10 Indie Craft Fairs in the world that every creative person needs to visit. Sponsored by: Vintage No. 35\, Do It Yourself Magazine\, Star 102.5\, Urban Wings Artography and Cityview. Admission: $6/person 12 & under are Free! Dates: Saturday\, June 10 9am-5pm Sunday\, June 11 10am-4pm NEW Location: Living History Farms 11121 Hickman Road\, Urbandale\, IA 50322 www.vintageandmadefair.com www.facebook.com/vintageandmadefair
X-ALT-DESC;FMTTYPE=text/html:VINTAGE &amp\; MADE FAIR is inspired by indie craft and all things vintage. Vintage &amp\; Made Fair is an outdoor market featuring antique and vintage home d&eacute\;cor\, jewelry\, handcrafted goods\, outdoor accents\, seasonal flora\, food trucks\, live music and everything you need to create a vintage and handmade lifestyle. The fair is a 2-day event where shoppers and vendors can share a love for vintage and indie craft at our New Location\, Living History Farms\, in Urbandale\, Iowa. BuzzFeed ranked the Fair as one of the Top 10 Indie Craft Fairs in the world that every creative person needs to visit. Sponsored by: Vintage No. 35\, Do It Yourself Magazine\, Star 102.5\, Urban Wings Artography and Cityview. Admission: $6/person 12 &amp\; under are Free! Dates: Saturday\, June 10 9am-5pm Sunday\, June 11 10am-4pm NEW Location: Living History Farms 11121 Hickman Road\, Urbandale\, IA 50322 www.vintageandmadefair.com www.facebook.com/vintageandmadefair
LOCATION:Living History Farms 11121 Hickman Road Urbandale\, IA 50322
UID:e.1185.5157
SEQUENCE:3
DTSTAMP:20260421T132249Z
URL:http://getaquote-mobile.uniquelyurbandale.com/events/details/vintage-made-fair-5157
END:VEVENT

END:VCALENDAR
