BEGIN:VCALENDAR
VERSION:2.0
PRODID:-//ChamberMaster//Event Calendar 2.0//EN
METHOD:PUBLISH
X-PUBLISHED-TTL:P3D
REFRESH-INTERVAL:P3D
CALSCALE:GREGORIAN
BEGIN:VEVENT
DTSTART:20161015T140000Z
DTEND:20161015T210000Z
X-MICROSOFT-CDO-ALLDAYEVENT:FALSE
SUMMARY:Victorian Funeral
DESCRIPTION:In 1875\, the funeral was a pageant of honored traditions! Families gathered to find joy in a public celebration of a life well lived. At 1:00\, join with historic interpreters as they celebrate the life and honor the death of a fictional Walnut Hill resident with a re-created funeral. Visit the Tangen home\, prepared with a period style coffin and funeral drapery. Walk in the funeral procession led by a horse-drawn hearse to New Hope Cemetery for a moving memorial service.
X-ALT-DESC;FMTTYPE=text/html:In 1875\, the funeral was a pageant of honored traditions! Families gathered to find joy in a public celebration of a life well lived. At 1:00\, join with historic interpreters as they celebrate the life and honor the death of a fictional Walnut Hill resident with a re-created funeral. Visit the Tangen home\, prepared with a period style coffin and funeral drapery. Walk in the funeral procession led by a horse-drawn hearse to New Hope Cemetery for a moving memorial service.
LOCATION:Living History Farms 11121 Hickman Road Urbandale\, IA 50322
UID:e.1185.4714
SEQUENCE:3
DTSTAMP:20260421T021944Z
URL:http://getaquote-mobile.uniquelyurbandale.com/events/details/victorian-funeral-10-15-2016-4714
END:VEVENT

END:VCALENDAR
