BEGIN:VCALENDAR
VERSION:2.0
PRODID:-//ChamberMaster//Event Calendar 2.0//EN
METHOD:PUBLISH
X-PUBLISHED-TTL:P3D
REFRESH-INTERVAL:P3D
CALSCALE:GREGORIAN
BEGIN:VEVENT
DTSTART:20160813T140000Z
DTEND:20160813T210000Z
X-MICROSOFT-CDO-ALLDAYEVENT:FALSE
SUMMARY:Victorian Birthday
DESCRIPTION:Visit the Flynn Mansion for a glimpse of childhood?s pleasures from times past. Our Victorian mansion will be decorated for a little girl?s party\, complete with historic streamers and examples of birthday gifts. Explore the boys? and girls' bedrooms to discover the clothing and daily life of a privileged child\, along with a chance to play with toys of the era. Join in a party game and share in a sweet party treat in the side yard at the end of your visit! Activities run 10:00am - 3:30pm.
X-ALT-DESC;FMTTYPE=text/html:Visit the Flynn Mansion for a glimpse of childhood?s pleasures from times past. Our Victorian mansion will be decorated for a little girl?s party\, complete with historic streamers and examples of birthday gifts. Explore the boys? and girls&#39\; bedrooms to discover the clothing and daily life of a privileged child\, along with a chance to play with toys of the era. Join in a party game and share in a sweet party treat in the side yard at the end of your visit! Activities run 10:00am - 3:30pm.
LOCATION:Living History Farms 11121 Hickman Road Urbandale\, IA 50322
UID:e.1185.4701
SEQUENCE:3
DTSTAMP:20260420T225850Z
URL:http://getaquote-mobile.uniquelyurbandale.com/events/details/victorian-birthday-08-13-2016-4701
END:VEVENT

END:VCALENDAR
