BEGIN:VCALENDAR
VERSION:2.0
PRODID:-//ChamberMaster//Event Calendar 2.0//EN
METHOD:PUBLISH
X-PUBLISHED-TTL:P3D
REFRESH-INTERVAL:P3D
CALSCALE:GREGORIAN
BEGIN:VEVENT
DTSTART:20160507T140000Z
DTEND:20160507T190000Z
X-MICROSOFT-CDO-ALLDAYEVENT:FALSE
SUMMARY:Van Wall Equipment/John Deere Ride & Drive
DESCRIPTION:Experience the excellence of John Deere for yourself on Saturday\, May 7th from 9:00am - 2:00pm at Living History Farms. Attendees will receive coupons worth up to $500 off select units and a free gift for Mom's (while supplies last). Plus\, kid's activities including large ag rides!
X-ALT-DESC;FMTTYPE=text/html:Experience the excellence of John Deere for yourself on Saturday\, May 7th from 9:00am - 2:00pm at Living History Farms. Attendees will receive coupons worth up to $500 off select units and a free gift for Mom&#39\;s (while supplies last). Plus\, kid&#39\;s activities including large ag rides!
LOCATION:Living History Farms 11121 Hickman Rd Urbandale\, IA 50322
UID:e.1185.4795
SEQUENCE:3
DTSTAMP:20260420T183207Z
URL:http://getaquote-mobile.uniquelyurbandale.com/events/details/van-wall-equipment-john-deere-ride-drive-05-07-2016-4795
END:VEVENT

END:VCALENDAR
