BEGIN:VCALENDAR
VERSION:2.0
PRODID:-//ChamberMaster//Event Calendar 2.0//EN
METHOD:PUBLISH
X-PUBLISHED-TTL:P3D
REFRESH-INTERVAL:P3D
CALSCALE:GREGORIAN
BEGIN:VEVENT
DTSTART:20160312T150000Z
DTEND:20160312T160000Z
X-MICROSOFT-CDO-ALLDAYEVENT:FALSE
SUMMARY:Utilize Smartphones\, Tablets to Plan Perfect Trip
DESCRIPTION:Are you ready to escape the winter blues for a nice vacation? Spring break is around the corner. While everyone looks forward to a trip\, the planning can be stressful. It is a good thing that smartphones and tablets can make travel planning easier. In a recent U.S. Cellular study\, 48 percent of smartphone owners used their device to look up destination reviews and prices\, while 36 percent use their device to book hotel reservations. To demonstrate various ways wireless devices can help with travel planning\, U.S. Cellular will host a free Device Workshop\, so you can enjoy both the planning and vacation. The workshop is open to everyone. You don't have to be a U.S. Cellular customer to attend. With the right device\, apps and national network\, you have the flexibility to plan for your trip wherever you are and also stay connected while enjoying your time away\,? said Erryn Andersen\, U.S. Cellular?s director of sales in Iowa and Nebraska. U.S. Cellular associates will show attendees how to use the features on their device and explain the many advantages smartphones have to offer. Please call 515-249-8800 for more information on this and upcoming Device Workshops.
X-ALT-DESC;FMTTYPE=text/html:Are you ready to escape the winter blues for a nice vacation? Spring break is around the corner. While everyone looks forward to a trip\, the planning can be stressful. It is a good thing that smartphones and tablets can make travel planning easier. In a recent U.S. Cellular study\, 48 percent of smartphone owners used their device to look up destination reviews and prices\, while 36 percent use their device to book hotel reservations. To demonstrate various ways wireless devices can help with travel planning\, U.S. Cellular will host a free Device Workshop\, so you can enjoy both the planning and vacation. The workshop is open to everyone. You don&#39\;t have to be a U.S. Cellular customer to attend. With the right device\, apps and national network\, you have the flexibility to plan for your trip wherever you are and also stay connected while enjoying your time away\,? said Erryn Andersen\, U.S. Cellular?s director of sales in Iowa and Nebraska. U.S. Cellular associates will show attendees how to use the features on their device and explain the many advantages smartphones have to offer. Please call 515-249-8800 for more information on this and upcoming Device Workshops.
LOCATION:U.S. Cellular 8475 Hickman Road
UID:e.1185.4733
SEQUENCE:3
DTSTAMP:20260420T153148Z
URL:http://getaquote-mobile.uniquelyurbandale.com/events/details/utilize-smartphones-tablets-to-plan-perfect-trip-03-12-2016-4733
END:VEVENT

END:VCALENDAR
