BEGIN:VCALENDAR
VERSION:2.0
PRODID:-//ChamberMaster//Event Calendar 2.0//EN
METHOD:PUBLISH
X-PUBLISHED-TTL:P3D
REFRESH-INTERVAL:P3D
CALSCALE:GREGORIAN
BEGIN:VEVENT
DTSTART:20161021T180000Z
DTEND:20161021T200000Z
X-MICROSOFT-CDO-ALLDAYEVENT:FALSE
SUMMARY:Using Your Iphone/IPad Beginning Computer Class
DESCRIPTION:Using Your Iphone/IPad\, 1:00 3:00 p.m. - $10 Pre Registration Required Participants need to bring their IPhone or IPad to class. Class will NOT cover Android type devices\, only Apple. Instructor: Urbandale resident Anne Nieland Beginning Class - Friday\, October 21 - In this beginning class we will cover the very basics of using your Apple device. Topics include Wifi versus cellular connections\, keyboard\, Notes\, apps and photo basics. You'll need your Apple ID and password\, too.
X-ALT-DESC;FMTTYPE=text/html:Using Your Iphone/IPad\, 1:00&mdash\;3:00 p.m. - $10&mdash\;Pre Registration Required Participants need to bring their IPhone or IPad to class. Class will NOT cover Android type devices\, only Apple. Instructor: Urbandale resident Anne Nieland Beginning Class - Friday\, October 21 - In this beginning class we will cover the very basics of using your Apple device. Topics include Wifi versus cellular connections\, keyboard\, Notes\, apps and photo basics. You&#39\;ll need your Apple ID and password\, too.
LOCATION:Urbandale Senior Recreation Center 7305 Aurora Ave
UID:e.1185.4925
SEQUENCE:3
DTSTAMP:20260421T021157Z
URL:http://getaquote-mobile.uniquelyurbandale.com/events/details/using-your-iphone-ipad-beginning-computer-class-4925
END:VEVENT

END:VCALENDAR
