BEGIN:VCALENDAR
VERSION:2.0
PRODID:-//ChamberMaster//Event Calendar 2.0//EN
METHOD:PUBLISH
X-PUBLISHED-TTL:P3D
REFRESH-INTERVAL:P3D
CALSCALE:GREGORIAN
BEGIN:VEVENT
DTSTART:20140425T163000Z
DTEND:20140425T180000Z
X-MICROSOFT-CDO-ALLDAYEVENT:FALSE
SUMMARY:US Chamber Spirit of Enterprise Award Presentation to Congressman Latham
DESCRIPTION:In March\, the US Chamber announced its Spirit of Enterprise Award for the first session of the 113th Congress.  Congressman Tom Latham was one of three among the Iowa delegation to receive this award. \n\n\n\nOn April 25th\, the Urbandale Chamber of Commerce is partnering with the US Chamber of Commerce to present Congressman Latham with this award in front of area business leaders and elected officials at a luncheon held at Interstate All Battery Center.  \n\n\n\nSpace is limited to the first 60 registrations!
X-ALT-DESC;FMTTYPE=text/html:In March\, the US Chamber announced its Spirit of Enterprise Award for the first session of the 113th Congress. &nbsp\;Congressman Tom Latham was one of three among the Iowa delegation to receive this award.&nbsp\;<br />\n<br />\nOn April 25th\, the Urbandale Chamber of Commerce is partnering with the US Chamber of Commerce to present Congressman Latham with this award in front of area business leaders and elected officials at a luncheon held at Interstate All Battery Center. &nbsp\;<br />\n<br />\nSpace is limited to the first 60 registrations!
LOCATION:The event takes place at Interstate All Battery Center located at 4301 121st Street\, Urbandale.
UID:e.1185.3901
SEQUENCE:3
DTSTAMP:20260419T180125Z
URL:http://getaquote-mobile.uniquelyurbandale.com/events/details/us-chamber-spirit-of-enterprise-award-presentation-to-congressman-latham-04-25-2014-3901
END:VEVENT

END:VCALENDAR
