BEGIN:VCALENDAR
VERSION:2.0
PRODID:-//ChamberMaster//Event Calendar 2.0//EN
METHOD:PUBLISH
X-PUBLISHED-TTL:P3D
REFRESH-INTERVAL:P3D
CALSCALE:GREGORIAN
BEGIN:VEVENT
DTSTART;VALUE=DATE:20160702
DTEND;VALUE=DATE:20160705
TRANSP:TRANSPARENT
X-MICROSOFT-CDO-ALLDAYEVENT:TRUE
SUMMARY:Urbandale's 4th of July celebration
DESCRIPTION:Urbandale is famous for its 4th of July celebration and this year they are Counting down to Urbandale's Centennial Celebration!  The celebration kicks off on Saturday when the Midway and Carnival opens at Noon in Lion's Park.  The Centennial Kick Off Picnic will be from 11-1 in Walker Johnston Park.  \n\n\n\nThe parade starts at 10 a.m. on Monday\, July 4th.  The fireworks display is at 10 p.m. on Monday\, July 4th (Shot from Walker Johnston Park - west side).  The Midway closes at 11 p.m. on the 4th.  \n\n\n\nThe rain date for fireworks is Tuesday\, July 5th.\n\n\n\nFor a full list of activities visit: http://uniquelyurbandale.com/wp-content/uploads/2016-4th-Celebration-Schedule-5.23.16.pdf
X-ALT-DESC;FMTTYPE=text/html:Urbandale is famous for its 4th of July celebration and this year they are Counting down to Urbandale&#39\;s Centennial Celebration! &nbsp\;The celebration kicks off on Saturday when the Midway and Carnival opens at Noon in Lion&#39\;s Park. &nbsp\;The Centennial Kick Off Picnic will be from 11-1 in Walker Johnston Park. &nbsp\;<br />\n<br />\nThe parade starts at 10 a.m. on Monday\, July 4th. &nbsp\;The fireworks display is at 10 p.m. on Monday\, July 4th (Shot from Walker Johnston Park - west side). &nbsp\;The Midway closes at 11 p.m. on the 4th. &nbsp\;<br />\n<br />\nThe rain date for fireworks is Tuesday\, July 5th.<br />\n<br />\nFor a full list of activities visit:&nbsp\;<a href="http://uniquelyurbandale.com/wp-content/uploads/2016-4th-Celebration-Schedule-5.23.16.pdf">http://uniquelyurbandale.com/wp-content/uploads/2016-4th-Celebration-Schedule-5.23.16.pdf</a>&nbsp\;
LOCATION:Lion's Park/Walker Johnston Park
UID:e.1185.4845
SEQUENCE:3
DTSTAMP:20260420T230136Z
URL:http://getaquote-mobile.uniquelyurbandale.com/events/details/urbandale-s-4th-of-july-celebration-07-02-2016-4845
END:VEVENT

END:VCALENDAR
