BEGIN:VCALENDAR
VERSION:2.0
PRODID:-//ChamberMaster//Event Calendar 2.0//EN
METHOD:PUBLISH
X-PUBLISHED-TTL:P3D
REFRESH-INTERVAL:P3D
CALSCALE:GREGORIAN
BEGIN:VEVENT
DTSTART:20190122T003000Z
DTEND:20190122T013000Z
X-MICROSOFT-CDO-ALLDAYEVENT:FALSE
SUMMARY:Urbandale Public Library Volunteer Fair
DESCRIPTION:Want to get involved in the Urbandale community? Visit the library's 2nd annual volunteer fair and talk with representatives from the following organizations: City of Urbandale - Boards & Commissions Friends of the Parks Living History Farms Mosaic in Central Iowa Urbandale Community Action Network (UCAN) Urbandale Community Adult Band Urbandale Food Pantry Urbandale Garden Club Urbandale Historical Society Urbandale July 4th Celebration Urbandale Lions Club Urbandale Parks & Recreation Urbandale Police Department Urbandale Public Library
X-ALT-DESC;FMTTYPE=text/html:Want to get involved in the Urbandale community? Visit the library&#39\;s 2nd annual volunteer fair and talk with representatives from the following organizations: City of Urbandale - Boards &amp\; Commissions Friends of the Parks Living History Farms Mosaic in Central Iowa Urbandale Community Action Network (UCAN) Urbandale Community Adult Band Urbandale Food Pantry Urbandale Garden Club Urbandale Historical Society Urbandale July 4th Celebration Urbandale Lions Club Urbandale Parks &amp\; Recreation Urbandale Police Department Urbandale Public Library
LOCATION:Urbandale Public Library\, 3520 86th Street\, Urbandale Iowa
UID:e.1185.9524
SEQUENCE:3
DTSTAMP:20260422T172442Z
URL:http://getaquote-mobile.uniquelyurbandale.com/events/details/urbandale-public-library-volunteer-fair-9524
END:VEVENT

END:VCALENDAR
