BEGIN:VCALENDAR
VERSION:2.0
PRODID:-//ChamberMaster//Event Calendar 2.0//EN
METHOD:PUBLISH
X-PUBLISHED-TTL:P3D
REFRESH-INTERVAL:P3D
CALSCALE:GREGORIAN
BEGIN:VEVENT
DTSTART:20161015T230000Z
DTEND:20161016T020000Z
X-MICROSOFT-CDO-ALLDAYEVENT:FALSE
SUMMARY:Urbandale Police Benevolent Fund Bags Tournament
DESCRIPTION:This Saturday at Walker Johnston Softball Park\, there will be a bags tournament with food and drinks for purchase to support the Urbandale Police Protective and Benevolent Association hosted by Cover My 6 Foundation. Cover My 6 is a non-profit organization established to raise awareness and understanding of the needs of service members and their families. Their mission is to organize events to raise funds that can be used to assist those service members and their families in times of need. Service members are all those who protect and serve on our behalf   this weekend we would like to raise funds for those men and women in blue who serve and protect our community.
X-ALT-DESC;FMTTYPE=text/html:This Saturday at Walker Johnston Softball Park\, there will be a bags tournament with food and drinks for purchase to support the Urbandale Police Protective and Benevolent Association hosted by Cover My 6 Foundation. Cover My 6 is a non-profit organization established to raise awareness and understanding of the needs of service members and their families. Their mission is to organize events to raise funds that can be used to assist those service members and their families in times of need. Service members are all those who protect and serve on our behalf &ndash\; this weekend we would like to raise funds for those men and women in blue who serve and protect our community.
LOCATION:Walker Johnston Softball Complex Concourse 9000 Douglas Ave\, Urbandale
UID:e.1185.4933
SEQUENCE:3
DTSTAMP:20260421T035312Z
URL:http://getaquote-mobile.uniquelyurbandale.com/events/details/urbandale-police-benevolent-fund-bags-tournament-4933
END:VEVENT

END:VCALENDAR
