BEGIN:VCALENDAR
VERSION:2.0
PRODID:-//ChamberMaster//Event Calendar 2.0//EN
METHOD:PUBLISH
X-PUBLISHED-TTL:P3D
REFRESH-INTERVAL:P3D
CALSCALE:GREGORIAN
BEGIN:VEVENT
DTSTART:20140628T170000Z
DTEND:20140628T210000Z
X-MICROSOFT-CDO-ALLDAYEVENT:FALSE
SUMMARY:Urbandale Craft Beer & Food Fest\, Presented by Cumulus Media Inc & NCMIC Group
DESCRIPTION:Urbandale Craft Beer and Food Fest\, Presented by Cumulus Media Inc. and NCMIC Group/Professional Solutions\n\n\n\nCheers! Kick off summer in Urbandale listening to live\, local music\, sampling craft beer from breweries across the US\, and enjoying delicious local food from area restaurants! Listening to the sounds of summer while sipping ice cold beer and enjoying local fare is the perfect way to spend an afternoon on Saturday\, June 28\, 2014 from Noon - 4 p.m. at Walker Johnston Park in and around the EJ Giovannetti shelter.\n\n\n\nWe are very excited to have the band Gimikk and Lance Eaton with Monkey\, Monkey\, Monkey as our entertainment!\n\n\n\nTickets are $10/person until June 15th and include a souvenir sampling mug! (limited to first 500 in gate).  After June 15th\, price will be $15/person and price will be $20 at the door\, day of the event.\n\nDesignated driver tickets are only $5 (sampling glass and wristband to sample not included). \n\n\n\nTo order tickets\, please visit  https://newschool.tikly.co/events/122 or stop in the Urbandale Chamber office (2830 100th Street\, Ste 110) or Customer Service at the Urbandale Hy-Vee (86th and Douglas). \n\n\n\nWe want everyone to have a great time at this event\, but in case you have TOO much of a good time\, we have Yellow Cab Company sponsoring our Designated Driver Station!\n\n\n\nWe are very excited to have the following food vendors present during the event selling their finest:\n\nFamous Dave's BBQ - Urbandale\n\nHal & Al's Q & Catering\n\nIowa Machine Shed\n\nMama Lacona's\n\nMerle Hay Mall
X-ALT-DESC;FMTTYPE=text/html:Urbandale Craft Beer and Food Fest\, Presented by&nbsp\;Cumulus Media Inc. and NCMIC Group/Professional Solutions<br />\n<br />\nCheers! Kick off summer in Urbandale listening to live\, local music\, sampling craft beer from breweries across the US\, and enjoying delicious local food from area restaurants! Listening to the sounds of summer while sipping ice cold beer and enjoying local fare is the perfect way to spend an afternoon on Saturday\, June 28\, 2014 from Noon - 4 p.m. at Walker Johnston Park in and around the EJ Giovannetti shelter.<br />\n<br />\nWe are very excited to have the band Gimikk and Lance Eaton with Monkey\, Monkey\, Monkey as our entertainment!<br />\n<br />\nTickets are $10/person until June 15th and include a souvenir&nbsp\;sampling mug! (limited to first 500 in gate). &nbsp\;After June 15th\, price will be $15/person and price will be $20 at the door\, day of the event.<br />\nDesignated driver tickets are only $5 (sampling glass and wristband to sample not included).&nbsp\;<br />\n<br />\nTo order tickets\, please visit<a href="https://newschool.tikly.co/events/122">&nbsp\;&#8203\;https://newschool.tikly.co/events/122</a>&nbsp\;or stop in the Urbandale Chamber office (2830 100th Street\, Ste 110) or Customer Service at the Urbandale Hy-Vee (86th and Douglas).&nbsp\;<br />\n<br />\nWe want everyone to have a great time at this event\, but in case you have TOO much of a good time\, we have Yellow Cab Company sponsoring our Designated Driver Station!<br />\n<br />\nWe are very excited to have the following food vendors present during the event selling their finest:<br />\nFamous Dave&#39\;s BBQ - Urbandale<br />\nHal &amp\; Al&#39\;s Q &amp\; Catering<br />\nIowa Machine Shed<br />\nMama Lacona&#39\;s<br />\nMerle Hay Mall<br />\n&nbsp\;
LOCATION:Urbandale Walker Johnston Park in and around the EJ Giovannetti shelter 9000 Douglas Ave.\, Urbandale\, IA
UID:e.1185.3794
SEQUENCE:3
DTSTAMP:20260419T153034Z
URL:http://getaquote-mobile.uniquelyurbandale.com/events/details/urbandale-craft-beer-food-fest-presented-by-cumulus-media-inc-ncmic-group-06-28-2014-3794
END:VEVENT

END:VCALENDAR
