BEGIN:VCALENDAR
VERSION:2.0
PRODID:-//ChamberMaster//Event Calendar 2.0//EN
METHOD:PUBLISH
X-PUBLISHED-TTL:P3D
REFRESH-INTERVAL:P3D
CALSCALE:GREGORIAN
BEGIN:VEVENT
DTSTART:20150716T220000Z
DTEND:20150717T000000Z
X-MICROSOFT-CDO-ALLDAYEVENT:FALSE
SUMMARY:Urbandale Chamber Regional Business After Hours
DESCRIPTION:All Chamber members from any of the affiliate Chambers are invited and encouraged to attend this Regional Business After Hours!\n\nDate: Thursday\, July 16th\n\nTime: 5-7 pm\n\nLocation: Park Place Catering \n\n1015 Riverside Dr.\, Adel
X-ALT-DESC;FMTTYPE=text/html:All Chamber members from any of the affiliate Chambers are invited and encouraged to attend this Regional Business After Hours!<br />\nDate: Thursday\, July 16th<br />\nTime: 5-7 pm<br />\nLocation: Park Place Catering&nbsp\;<br />\n1015 Riverside Dr.\, Adel
LOCATION:Park Place Catering in Adel
UID:e.1185.4161
SEQUENCE:3
DTSTAMP:20260420T054341Z
URL:http://getaquote-mobile.uniquelyurbandale.com/events/details/urbandale-chamber-regional-business-after-hours-07-16-2015-4161
END:VEVENT

END:VCALENDAR
