BEGIN:VCALENDAR
VERSION:2.0
PRODID:-//ChamberMaster//Event Calendar 2.0//EN
METHOD:PUBLISH
X-PUBLISHED-TTL:P3D
REFRESH-INTERVAL:P3D
CALSCALE:GREGORIAN
BEGIN:VEVENT
DTSTART:20200226T143000Z
DTEND:20200226T153000Z
X-MICROSOFT-CDO-ALLDAYEVENT:FALSE
SUMMARY:Urbandale Chamber February Board Meeting
DESCRIPTION:The Urbandale Chamber Board of Directors typically meets the last Wednesday of every month from 8:30 - 9:30 a.m. at the Urbandale Chamber office.
X-ALT-DESC;FMTTYPE=text/html:<span style="font-family:roboto\;"><span style="font-size:9.0pt\;">The Urbandale Chamber Board of Directors typically meets the last Wednesday of every month from 8:30 - 9:30 a.m. at the Urbandale Chamber office.</span></span>&nbsp\;&nbsp\;&nbsp\;&nbsp\;
LOCATION:Rodan Board Room 2830 100th St.\, Ste. 110
UID:e.1185.2627
SEQUENCE:3
DTSTAMP:20260423T162013Z
URL:http://getaquote-mobile.uniquelyurbandale.com/events/details/urbandale-chamber-february-board-meeting-2627
END:VEVENT

END:VCALENDAR
