BEGIN:VCALENDAR
VERSION:2.0
PRODID:-//ChamberMaster//Event Calendar 2.0//EN
METHOD:PUBLISH
X-PUBLISHED-TTL:P3D
REFRESH-INTERVAL:P3D
CALSCALE:GREGORIAN
BEGIN:VEVENT
DTSTART:20201009T130000Z
DTEND:20201009T220000Z
X-MICROSOFT-CDO-ALLDAYEVENT:FALSE
SUMMARY:Urbandale Chamber Board 2021 Planning Retreat
DESCRIPTION:Annually the Board gets together for a full-day retreat to plan for the upcoming year.  Please mark your calendar and plan to attend the 2020 Board Retreat.
X-ALT-DESC;FMTTYPE=text/html:Annually the Board gets together for a full-day retreat to plan for the upcoming year.&nbsp\; Please mark your calendar and plan to attend the 2020 Board Retreat.
LOCATION:TBD
UID:e.1185.10836
SEQUENCE:3
DTSTAMP:20260424T031425Z
URL:http://getaquote-mobile.uniquelyurbandale.com/events/details/urbandale-chamber-board-2021-planning-retreat-10836
END:VEVENT

END:VCALENDAR
