BEGIN:VCALENDAR
VERSION:2.0
PRODID:-//ChamberMaster//Event Calendar 2.0//EN
METHOD:PUBLISH
X-PUBLISHED-TTL:P3D
REFRESH-INTERVAL:P3D
CALSCALE:GREGORIAN
BEGIN:VEVENT
DTSTART:20160312T180000Z
DTEND:20160312T200000Z
X-MICROSOFT-CDO-ALLDAYEVENT:FALSE
SUMMARY:Urbandale Alumni Soccer Game
DESCRIPTION:The refreshed UHS boys soccer coaching staff is hosting its first alumni soccer game\, to promote the upcoming 2016 soccer season. Alumni players are asked to bring a package of small Gatorade bottles\, for admission to the game\, to provide refreshments for the UHS boys throughout the season.
X-ALT-DESC;FMTTYPE=text/html:The refreshed UHS boys soccer coaching staff is hosting its first alumni soccer game\, to promote the upcoming 2016 soccer season. Alumni players are asked to bring a package of small Gatorade bottles\, for admission to the game\, to provide refreshments for the UHS boys throughout the season.
LOCATION:Urbandale High School Stadium
UID:e.1185.4722
SEQUENCE:3
DTSTAMP:20260420T153250Z
URL:http://getaquote-mobile.uniquelyurbandale.com/events/details/urbandale-alumni-soccer-game-03-12-2016-4722
END:VEVENT

END:VCALENDAR
