BEGIN:VCALENDAR
VERSION:2.0
PRODID:-//ChamberMaster//Event Calendar 2.0//EN
METHOD:PUBLISH
X-PUBLISHED-TTL:P3D
REFRESH-INTERVAL:P3D
CALSCALE:GREGORIAN
BEGIN:VEVENT
DTSTART:20170330T220000Z
DTEND:20170331T000000Z
X-MICROSOFT-CDO-ALLDAYEVENT:FALSE
SUMMARY:Upper Iowa University - Open House
DESCRIPTION:OPEN HOUSE\n\n	Learn how to further your education and career opportunities.\n	Attain information about UIU's degree programs\n	Tour our facility\n	Learn about the next steps to become a UIU student\n	Speak with an advisor and begin your admissions process\n\nAs a member of ABI\, employees\, spouses and dependent children receive a 20% discount on tuition. Ask us for more details.
X-ALT-DESC;FMTTYPE=text/html:OPEN HOUSE\n<ul>\n	<li>Learn how to further your education and career opportunities.</li>\n	<li>Attain information about UIU&rsquo\;s degree programs</li>\n	<li>Tour our facility</li>\n	<li>Learn about the next steps to become a UIU student</li>\n	<li>Speak with an advisor and begin your admissions process</li>\n</ul>\nAs a member of ABI\, employees\, spouses and dependent children receive a 20% discount on tuition.&nbsp\;Ask us for more details.
LOCATION:5000 Westown Parkway\, Suite 200 West Des Moines\, Iowa 50266
UID:e.1185.5163
SEQUENCE:3
DTSTAMP:20260421T091928Z
URL:http://getaquote-mobile.uniquelyurbandale.com/events/details/upper-iowa-university-open-house-5163
END:VEVENT

END:VCALENDAR
