BEGIN:VCALENDAR
VERSION:2.0
PRODID:-//ChamberMaster//Event Calendar 2.0//EN
METHOD:PUBLISH
X-PUBLISHED-TTL:P3D
REFRESH-INTERVAL:P3D
CALSCALE:GREGORIAN
BEGIN:VEVENT
DTSTART:20170405T220000Z
DTEND:20170406T000000Z
X-MICROSOFT-CDO-ALLDAYEVENT:FALSE
SUMMARY:Upper Iowa University - Graduate Fair
DESCRIPTION:GRADUATE FAIR\n\n\n\nLearn how to get started on your master's degree at UIU\n\n\n\n  Receive more information about UIU graduate programs:\n\n- Master of Business Administration (MBA)\n\n- Master of Education (MEd)\n\n- Master of Public Administration (MPA)\n\n- Master of Science in Counseling (MSC)\n\n- Master of Sport Administration (MSA)\n\n?\n\n  Speak with faculty\, staff and an adviser\n\n\n\nTake the first step in advancing your career.
X-ALT-DESC;FMTTYPE=text/html:GRADUATE FAIR<br />\n<br />\nLearn how to get started on your master&rsquo\;s degree at UIU<br />\n<br />\n&bull\; Receive more information about UIU graduate programs:<br />\n- Master of Business Administration (MBA)<br />\n- Master of Education (MEd)<br />\n- Master of Public Administration (MPA)<br />\n- Master of Science in Counseling (MSC)<br />\n- Master of Sport Administration (MSA)<br />\n?<br />\n&bull\; Speak with faculty\, staff and an adviser<br />\n<br />\nTake the first step in advancing your career.
LOCATION:5000 Westown Parkway\, Suite 200 West Des Moines\, Iowa 50266
UID:e.1185.5164
SEQUENCE:3
DTSTAMP:20260421T120315Z
URL:http://getaquote-mobile.uniquelyurbandale.com/events/details/upper-iowa-university-graduate-fair-5164
END:VEVENT

END:VCALENDAR
