BEGIN:VCALENDAR
VERSION:2.0
PRODID:-//ChamberMaster//Event Calendar 2.0//EN
METHOD:PUBLISH
X-PUBLISHED-TTL:P3D
REFRESH-INTERVAL:P3D
CALSCALE:GREGORIAN
BEGIN:VEVENT
DTSTART:20161009T180000Z
DTEND:20161009T200000Z
X-MICROSOFT-CDO-ALLDAYEVENT:FALSE
SUMMARY:UCAN Fall Frenzy
DESCRIPTION:UCAN Fall Frenzy Join us for some FREE family fall fun!!! We will have outdoor games\, crafts\, snacks and live critters! This event is co-sponsored by: UCAN\, Polk County Conservation\, and Urbandale Parks & Rec
X-ALT-DESC;FMTTYPE=text/html:UCAN Fall Frenzy Join us for some FREE family fall fun!!! We will have outdoor games\, crafts\, snacks and live critters! This event is co-sponsored by: UCAN\, Polk County Conservation\, and Urbandale Parks &amp\; Rec
LOCATION:Giovannetti Community Shelter in Walker Johnston Park
UID:e.1185.4884
SEQUENCE:3
DTSTAMP:20260421T022139Z
URL:http://getaquote-mobile.uniquelyurbandale.com/events/details/ucan-fall-frenzy-10-09-2016-4884
END:VEVENT

END:VCALENDAR
