BEGIN:VCALENDAR
VERSION:2.0
PRODID:-//ChamberMaster//Event Calendar 2.0//EN
METHOD:PUBLISH
X-PUBLISHED-TTL:P3D
REFRESH-INTERVAL:P3D
CALSCALE:GREGORIAN
BEGIN:VEVENT
DTSTART:20160428T210000Z
DTEND:20160428T230000Z
X-MICROSOFT-CDO-ALLDAYEVENT:FALSE
SUMMARY:TuTu Fun event
DESCRIPTION:Join Edencrest at Green Meadows along with Hubbell Realty Company as we host a Tutu Making Party in support of Team Tegan! Team Tegan?s goal is to eliminate Type I Diabetes through raising awareness and funds for the Juvenile Diabetes Research Foundation. When you join us for this event\, not only will you be supporting a great cause\, you will also come away with a fabulous tutu! All tutu making supplies are provided\, as well as delicious refreshments! RSVP Today! For more information contact Ashley Phelps\, Community Relations Coordinator\, at 515-664-8573 or welcomegm@edencrestliving.com
X-ALT-DESC;FMTTYPE=text/html:Join Edencrest at Green Meadows along with Hubbell Realty Company as we host a Tutu Making Party in support of Team Tegan! Team Tegan?s goal is to eliminate Type I Diabetes through raising awareness and funds for the Juvenile Diabetes Research Foundation. When you join us for this event\, not only will you be supporting a great cause\, you will also come away with a fabulous tutu! All tutu making supplies are provided\, as well as delicious refreshments! RSVP Today! For more information contact Ashley Phelps\, Community Relations Coordinator\, at 515-664-8573 or welcomegm@edencrestliving.com
LOCATION:2750 Corporate Drive Johnston\, IA 50313
UID:e.1185.4793
SEQUENCE:3
DTSTAMP:20260420T182515Z
URL:http://getaquote-mobile.uniquelyurbandale.com/events/details/tutu-fun-event-04-28-2016-4793
END:VEVENT

END:VCALENDAR
