BEGIN:VCALENDAR
VERSION:2.0
PRODID:-//ChamberMaster//Event Calendar 2.0//EN
METHOD:PUBLISH
X-PUBLISHED-TTL:P3D
REFRESH-INTERVAL:P3D
CALSCALE:GREGORIAN
BEGIN:VEVENT
DTSTART:20200123T210000Z
DTEND:20200123T230000Z
X-MICROSOFT-CDO-ALLDAYEVENT:FALSE
SUMMARY:TRC Volunteer Training Thursday PM
DESCRIPTION:All Total Resource Campaign (TRC) volunteers must go through training before you can sell sponsorships.  At this event\, volunteers will learn more about the campaign\, learn about each sponsorship and membership benefits so you can sell with confidence.  You will also receive a TRC volunteer packet that will help guide you throughout the campaign.  Volunteers can pick the training session that best fits your schedule.\n\n\n\nOptions include: (RSVP for only ONE)\n\nJanuary 23rd 3-5 p.m.\n\nJanuary 24th 8:15 - 10:15 a.m.\n\nJanuary 24th 3:30 - 4:30 p.m. FOR RETURNING VOLUNTEERS ONLY\n\n\n\nIf you cannot make one of these sessions\, please contact Tiffany Menke to schedule a make-up session.
X-ALT-DESC;FMTTYPE=text/html:<span style="color: rgb(51\, 51\, 51)\; font-family: sans-serif\, Arial\, Verdana\, &quot\;Trebuchet MS&quot\;\; font-size: 13px\; background-color: rgb(255\, 255\, 255)\;">All Total Resource Campaign (TRC) volunteers&nbsp\;</span><u style="color: rgb(51\, 51\, 51)\; font-family: sans-serif\, Arial\, Verdana\, &quot\;Trebuchet MS&quot\;\; font-size: 13px\;">must go through training</u><span style="color: rgb(51\, 51\, 51)\; font-family: sans-serif\, Arial\, Verdana\, &quot\;Trebuchet MS&quot\;\; font-size: 13px\; background-color: rgb(255\, 255\, 255)\;">&nbsp\;before you can sell sponsorships.&nbsp\; At this event\, volunteers will learn more about the campaign\, learn about each sponsorship and membership benefits so you can sell with confidence.&nbsp\; You will also receive a TRC volunteer packet that will help guide you throughout the campaign.&nbsp\; Volunteers can pick the training session that best fits your schedule.</span><br style="color: rgb(51\, 51\, 51)\; font-family: sans-serif\, Arial\, Verdana\, &quot\;Trebuchet MS&quot\;\; font-size: 13px\;" />\n<br style="color: rgb(51\, 51\, 51)\; font-family: sans-serif\, Arial\, Verdana\, &quot\;Trebuchet MS&quot\;\; font-size: 13px\;" />\n<span style="color: rgb(51\, 51\, 51)\; font-family: sans-serif\, Arial\, Verdana\, &quot\;Trebuchet MS&quot\;\; font-size: 13px\; background-color: rgb(255\, 255\, 255)\;">Options include:&nbsp\;</span><strong style="color: rgb(51\, 51\, 51)\; font-family: sans-serif\, Arial\, Verdana\, &quot\;Trebuchet MS&quot\;\; font-size: 13px\;">(RSVP for only ONE)</strong><br style="color: rgb(51\, 51\, 51)\; font-family: sans-serif\, Arial\, Verdana\, &quot\;Trebuchet MS&quot\;\; font-size: 13px\;" />\n<span style="color: rgb(51\, 51\, 51)\; font-family: sans-serif\, Arial\, Verdana\, &quot\;Trebuchet MS&quot\;\; font-size: 13px\; background-color: rgb(255\, 255\, 255)\;">January 23rd 3-5 p.m.</span><br style="color: rgb(51\, 51\, 51)\; font-family: sans-serif\, Arial\, Verdana\, &quot\;Trebuchet MS&quot\;\; font-size: 13px\;" />\n<span style="color: rgb(51\, 51\, 51)\; font-family: sans-serif\, Arial\, Verdana\, &quot\;Trebuchet MS&quot\;\; font-size: 13px\; background-color: rgb(255\, 255\, 255)\;">January 24th 8:15 - 10:15 a.m.</span><br style="color: rgb(51\, 51\, 51)\; font-family: sans-serif\, Arial\, Verdana\, &quot\;Trebuchet MS&quot\;\; font-size: 13px\;" />\n<span style="color: rgb(51\, 51\, 51)\; font-family: sans-serif\, Arial\, Verdana\, &quot\;Trebuchet MS&quot\;\; font-size: 13px\; background-color: rgb(255\, 255\, 255)\;">January 24th 3:30 - 4:30 p.m. FOR RETURNING VOLUNTEERS ONLY</span><br style="color: rgb(51\, 51\, 51)\; font-family: sans-serif\, Arial\, Verdana\, &quot\;Trebuchet MS&quot\;\; font-size: 13px\;" />\n<br style="color: rgb(51\, 51\, 51)\; font-family: sans-serif\, Arial\, Verdana\, &quot\;Trebuchet MS&quot\;\; font-size: 13px\;" />\n<span style="color: rgb(51\, 51\, 51)\; font-family: sans-serif\, Arial\, Verdana\, &quot\;Trebuchet MS&quot\;\; font-size: 13px\; background-color: rgb(255\, 255\, 255)\;">If you cannot make one of these sessions\, please contact Tiffany Menke to schedule a make-up session.</span>
LOCATION:Urbandale Chamber of Commerce 2830 100th St.\, Ste. 110 Urbandale
UID:e.1185.10523
SEQUENCE:3
DTSTAMP:20260423T144305Z
URL:http://getaquote-mobile.uniquelyurbandale.com/events/details/trc-volunteer-training-thursday-pm-10523
END:VEVENT

END:VCALENDAR
